BEGIN:VCALENDAR
VERSION:2.0
PRODID:-//Crossroads Parish - ECPv6.15.18//NONSGML v1.0//EN
CALSCALE:GREGORIAN
METHOD:PUBLISH
X-ORIGINAL-URL:https://www.crossroads55112.org
X-WR-CALDESC:Events for Crossroads Parish
REFRESH-INTERVAL;VALUE=DURATION:PT1H
X-Robots-Tag:noindex
X-PUBLISHED-TTL:PT1H
BEGIN:VTIMEZONE
TZID:America/Chicago
BEGIN:DAYLIGHT
TZOFFSETFROM:-0600
TZOFFSETTO:-0500
TZNAME:CDT
DTSTART:20240310T080000
END:DAYLIGHT
BEGIN:STANDARD
TZOFFSETFROM:-0500
TZOFFSETTO:-0600
TZNAME:CST
DTSTART:20241103T070000
END:STANDARD
BEGIN:DAYLIGHT
TZOFFSETFROM:-0600
TZOFFSETTO:-0500
TZNAME:CDT
DTSTART:20250309T080000
END:DAYLIGHT
BEGIN:STANDARD
TZOFFSETFROM:-0500
TZOFFSETTO:-0600
TZNAME:CST
DTSTART:20251102T070000
END:STANDARD
BEGIN:DAYLIGHT
TZOFFSETFROM:-0600
TZOFFSETTO:-0500
TZNAME:CDT
DTSTART:20260308T080000
END:DAYLIGHT
BEGIN:STANDARD
TZOFFSETFROM:-0500
TZOFFSETTO:-0600
TZNAME:CST
DTSTART:20261101T070000
END:STANDARD
END:VTIMEZONE
BEGIN:VEVENT
DTSTART;TZID=America/Chicago:20251009T093000
DTEND;TZID=America/Chicago:20251009T103000
DTSTAMP:20260423T003307
CREATED:20250827T163031Z
LAST-MODIFIED:20251009T163008Z
UID:29292-1760002200-1760005800@www.crossroads55112.org
SUMMARY:A-Mary Circle
DESCRIPTION:
URL:https://www.crossroads55112.org/eventsingle/a-mary-circle-32/
END:VEVENT
BEGIN:VEVENT
DTSTART;TZID=America/Chicago:20251009T100000
DTEND;TZID=America/Chicago:20251009T110000
DTSTAMP:20260423T003307
CREATED:20250827T163031Z
LAST-MODIFIED:20251009T163013Z
UID:29293-1760004000-1760007600@www.crossroads55112.org
SUMMARY:C-Naomi Circle
DESCRIPTION:
URL:https://www.crossroads55112.org/eventsingle/c-naomi-circle-29/
END:VEVENT
BEGIN:VEVENT
DTSTART;TZID=America/Chicago:20251009T130000
DTEND;TZID=America/Chicago:20251009T140000
DTSTAMP:20260423T003307
CREATED:20250827T163032Z
LAST-MODIFIED:20251009T163018Z
UID:29294-1760014800-1760018400@www.crossroads55112.org
SUMMARY:A-Game Day
DESCRIPTION:
URL:https://www.crossroads55112.org/eventsingle/a-game-day-135/
END:VEVENT
BEGIN:VEVENT
DTSTART;TZID=America/Chicago:20251009T150000
DTEND;TZID=America/Chicago:20251009T210000
DTSTAMP:20260423T003307
CREATED:20250827T163033Z
LAST-MODIFIED:20250918T163618Z
UID:29295-1760022000-1760043600@www.crossroads55112.org
SUMMARY:C-Lessons
DESCRIPTION:
URL:https://www.crossroads55112.org/eventsingle/c-lessons-6/
END:VEVENT
BEGIN:VEVENT
DTSTART;TZID=America/Chicago:20251009T150000
DTEND;TZID=America/Chicago:20251009T210000
DTSTAMP:20260423T003307
CREATED:20250919T163119Z
LAST-MODIFIED:20251009T163025Z
UID:31622-1760022000-1760043600@www.crossroads55112.org
SUMMARY:C-Marnie Thies Violin Lessons
DESCRIPTION:
URL:https://www.crossroads55112.org/eventsingle/c-marnie-thies-violin-lessons-3/
END:VEVENT
BEGIN:VEVENT
DTSTART;TZID=America/Chicago:20251009T163000
DTEND;TZID=America/Chicago:20251009T173000
DTSTAMP:20260423T003307
CREATED:20250827T163033Z
LAST-MODIFIED:20250904T163116Z
UID:29296-1760027400-1760031000@www.crossroads55112.org
SUMMARY:C-Bible Junk Book Jounaling
DESCRIPTION:
URL:https://www.crossroads55112.org/eventsingle/c-bible-junk-book-jounaling-69/
END:VEVENT
BEGIN:VEVENT
DTSTART;TZID=America/Chicago:20251009T183000
DTEND;TZID=America/Chicago:20251009T193000
DTSTAMP:20260423T003307
CREATED:20250827T163034Z
LAST-MODIFIED:20251010T163014Z
UID:29297-1760034600-1760038200@www.crossroads55112.org
SUMMARY:A-Bingo
DESCRIPTION:
URL:https://www.crossroads55112.org/eventsingle/a-bingo-2/
END:VEVENT
END:VCALENDAR