BEGIN:VCALENDAR
VERSION:2.0
PRODID:-//Crossroads Parish - ECPv6.15.18//NONSGML v1.0//EN
CALSCALE:GREGORIAN
METHOD:PUBLISH
X-ORIGINAL-URL:https://www.crossroads55112.org
X-WR-CALDESC:Events for Crossroads Parish
REFRESH-INTERVAL;VALUE=DURATION:PT1H
X-Robots-Tag:noindex
X-PUBLISHED-TTL:PT1H
BEGIN:VTIMEZONE
TZID:UTC
BEGIN:STANDARD
TZOFFSETFROM:+0000
TZOFFSETTO:+0000
TZNAME:UTC
DTSTART:20240101T000000
END:STANDARD
END:VTIMEZONE
BEGIN:VTIMEZONE
TZID:America/Chicago
BEGIN:DAYLIGHT
TZOFFSETFROM:-0600
TZOFFSETTO:-0500
TZNAME:CDT
DTSTART:20240310T080000
END:DAYLIGHT
BEGIN:STANDARD
TZOFFSETFROM:-0500
TZOFFSETTO:-0600
TZNAME:CST
DTSTART:20241103T070000
END:STANDARD
BEGIN:DAYLIGHT
TZOFFSETFROM:-0600
TZOFFSETTO:-0500
TZNAME:CDT
DTSTART:20250309T080000
END:DAYLIGHT
BEGIN:STANDARD
TZOFFSETFROM:-0500
TZOFFSETTO:-0600
TZNAME:CST
DTSTART:20251102T070000
END:STANDARD
BEGIN:DAYLIGHT
TZOFFSETFROM:-0600
TZOFFSETTO:-0500
TZNAME:CDT
DTSTART:20260308T080000
END:DAYLIGHT
BEGIN:STANDARD
TZOFFSETFROM:-0500
TZOFFSETTO:-0600
TZNAME:CST
DTSTART:20261101T070000
END:STANDARD
END:VTIMEZONE
BEGIN:VEVENT
DTSTART;VALUE=DATE:20251231
DTEND;VALUE=DATE:20260101
DTSTAMP:20260422T122049
CREATED:20251106T163426Z
LAST-MODIFIED:20251231T164209Z
UID:32702-1767139200-1767225599@www.crossroads55112.org
SUMMARY:Offices Closed
DESCRIPTION:
URL:https://www.crossroads55112.org/eventsingle/offices-closed-12/
END:VEVENT
BEGIN:VEVENT
DTSTART;TZID=America/Chicago:20251231T183000
DTEND;TZID=America/Chicago:20251231T193000
DTSTAMP:20260422T122049
CREATED:20250924T163609Z
LAST-MODIFIED:20251031T163558Z
UID:31858-1767205800-1767209400@www.crossroads55112.org
SUMMARY:A-ALC Choir Rehearsal
DESCRIPTION:
URL:https://www.crossroads55112.org/eventsingle/a-alc-choir-rehearsal-15/
END:VEVENT
BEGIN:VEVENT
DTSTART;TZID=America/Chicago:20251231T183000
DTEND;TZID=America/Chicago:20251231T193000
DTSTAMP:20260422T122049
CREATED:20251101T163425Z
LAST-MODIFIED:20251110T163510Z
UID:32495-1767205800-1767209400@www.crossroads55112.org
SUMMARY:ALC Choir Rehearsal
DESCRIPTION:
URL:https://www.crossroads55112.org/eventsingle/alc-choir-rehearsal-5/
END:VEVENT
END:VCALENDAR