BEGIN:VCALENDAR
VERSION:2.0
PRODID:-//Crossroads Parish - ECPv6.15.18//NONSGML v1.0//EN
CALSCALE:GREGORIAN
METHOD:PUBLISH
X-ORIGINAL-URL:https://www.crossroads55112.org
X-WR-CALDESC:Events for Crossroads Parish
REFRESH-INTERVAL;VALUE=DURATION:PT1H
X-Robots-Tag:noindex
X-PUBLISHED-TTL:PT1H
BEGIN:VTIMEZONE
TZID:America/Chicago
BEGIN:DAYLIGHT
TZOFFSETFROM:-0600
TZOFFSETTO:-0500
TZNAME:CDT
DTSTART:20250309T080000
END:DAYLIGHT
BEGIN:STANDARD
TZOFFSETFROM:-0500
TZOFFSETTO:-0600
TZNAME:CST
DTSTART:20251102T070000
END:STANDARD
BEGIN:DAYLIGHT
TZOFFSETFROM:-0600
TZOFFSETTO:-0500
TZNAME:CDT
DTSTART:20260308T080000
END:DAYLIGHT
BEGIN:STANDARD
TZOFFSETFROM:-0500
TZOFFSETTO:-0600
TZNAME:CST
DTSTART:20261101T070000
END:STANDARD
BEGIN:DAYLIGHT
TZOFFSETFROM:-0600
TZOFFSETTO:-0500
TZNAME:CDT
DTSTART:20270314T080000
END:DAYLIGHT
BEGIN:STANDARD
TZOFFSETFROM:-0500
TZOFFSETTO:-0600
TZNAME:CST
DTSTART:20271107T070000
END:STANDARD
END:VTIMEZONE
BEGIN:VEVENT
DTSTART;TZID=America/Chicago:20260226T130000
DTEND;TZID=America/Chicago:20260226T140000
DTSTAMP:20260425T175137
CREATED:20250827T163307Z
LAST-MODIFIED:20260226T163211Z
UID:29834-1772110800-1772114400@www.crossroads55112.org
SUMMARY:A-Game Day
DESCRIPTION:
URL:https://www.crossroads55112.org/eventsingle/a-game-day-165/
END:VEVENT
BEGIN:VEVENT
DTSTART;TZID=America/Chicago:20260226T130000
DTEND;TZID=America/Chicago:20260226T140000
DTSTAMP:20260425T175137
CREATED:20250827T163307Z
LAST-MODIFIED:20250827T163307Z
UID:29835-1772110800-1772114400@www.crossroads55112.org
SUMMARY:A-Game Day
DESCRIPTION:
URL:https://www.crossroads55112.org/eventsingle/a-game-day-166/
END:VEVENT
BEGIN:VEVENT
DTSTART;TZID=America/Chicago:20260226T150000
DTEND;TZID=America/Chicago:20260226T210000
DTSTAMP:20260425T175137
CREATED:20250827T163308Z
LAST-MODIFIED:20250918T164520Z
UID:29836-1772118000-1772139600@www.crossroads55112.org
SUMMARY:C-Lessons
DESCRIPTION:
URL:https://www.crossroads55112.org/eventsingle/c-lessons-38/
END:VEVENT
BEGIN:VEVENT
DTSTART;TZID=America/Chicago:20260226T150000
DTEND;TZID=America/Chicago:20260226T210000
DTSTAMP:20260425T175137
CREATED:20250827T163308Z
LAST-MODIFIED:20250827T163308Z
UID:29837-1772118000-1772139600@www.crossroads55112.org
SUMMARY:C-Lessons
DESCRIPTION:
URL:https://www.crossroads55112.org/eventsingle/c-lessons-39/
END:VEVENT
BEGIN:VEVENT
DTSTART;TZID=America/Chicago:20260226T150000
DTEND;TZID=America/Chicago:20260226T210000
DTSTAMP:20260425T175137
CREATED:20250919T163821Z
LAST-MODIFIED:20260226T163213Z
UID:31662-1772118000-1772139600@www.crossroads55112.org
SUMMARY:C-Marnie Thies Violin Lessons
DESCRIPTION:
URL:https://www.crossroads55112.org/eventsingle/c-marnie-thies-violin-lessons-23/
END:VEVENT
BEGIN:VEVENT
DTSTART;TZID=America/Chicago:20260226T163000
DTEND;TZID=America/Chicago:20260226T173000
DTSTAMP:20260425T175137
CREATED:20250827T163308Z
LAST-MODIFIED:20250904T163137Z
UID:29838-1772123400-1772127000@www.crossroads55112.org
SUMMARY:C-Bible Junk Book Jounaling
DESCRIPTION:
URL:https://www.crossroads55112.org/eventsingle/c-bible-junk-book-jounaling-98/
END:VEVENT
BEGIN:VEVENT
DTSTART;TZID=America/Chicago:20260226T163000
DTEND;TZID=America/Chicago:20260226T173000
DTSTAMP:20260425T175137
CREATED:20250827T163308Z
LAST-MODIFIED:20250827T163308Z
UID:29839-1772123400-1772127000@www.crossroads55112.org
SUMMARY:C-Bible Junk Book Jounaling
DESCRIPTION:
URL:https://www.crossroads55112.org/eventsingle/c-bible-junk-book-jounaling-99/
END:VEVENT
END:VCALENDAR