BEGIN:VCALENDAR
VERSION:2.0
PRODID:-//Crossroads Parish - ECPv6.15.18//NONSGML v1.0//EN
CALSCALE:GREGORIAN
METHOD:PUBLISH
X-WR-CALNAME:Crossroads Parish
X-ORIGINAL-URL:https://www.crossroads55112.org
X-WR-CALDESC:Events for Crossroads Parish
REFRESH-INTERVAL;VALUE=DURATION:PT1H
X-Robots-Tag:noindex
X-PUBLISHED-TTL:PT1H
BEGIN:VTIMEZONE
TZID:America/Chicago
BEGIN:DAYLIGHT
TZOFFSETFROM:-0600
TZOFFSETTO:-0500
TZNAME:CDT
DTSTART:20250309T080000
END:DAYLIGHT
BEGIN:STANDARD
TZOFFSETFROM:-0500
TZOFFSETTO:-0600
TZNAME:CST
DTSTART:20251102T070000
END:STANDARD
BEGIN:DAYLIGHT
TZOFFSETFROM:-0600
TZOFFSETTO:-0500
TZNAME:CDT
DTSTART:20260308T080000
END:DAYLIGHT
BEGIN:STANDARD
TZOFFSETFROM:-0500
TZOFFSETTO:-0600
TZNAME:CST
DTSTART:20261101T070000
END:STANDARD
BEGIN:DAYLIGHT
TZOFFSETFROM:-0600
TZOFFSETTO:-0500
TZNAME:CDT
DTSTART:20270314T080000
END:DAYLIGHT
BEGIN:STANDARD
TZOFFSETFROM:-0500
TZOFFSETTO:-0600
TZNAME:CST
DTSTART:20271107T070000
END:STANDARD
END:VTIMEZONE
BEGIN:VEVENT
DTSTART;TZID=America/Chicago:20260601T080000
DTEND;TZID=America/Chicago:20260601T090000
DTSTAMP:20260420T151856
CREATED:20250827T163503Z
LAST-MODIFIED:20260420T163315Z
UID:30234-1780300800-1780304400@www.crossroads55112.org
SUMMARY:A-Bible Study
DESCRIPTION:At Atonement.
URL:https://www.crossroads55112.org/eventsingle/a-bible-study-136/
END:VEVENT
BEGIN:VEVENT
DTSTART;TZID=America/Chicago:20260601T130000
DTEND;TZID=America/Chicago:20260601T150000
DTSTAMP:20260420T151856
CREATED:20250827T163503Z
LAST-MODIFIED:20260420T163315Z
UID:30235-1780318800-1780326000@www.crossroads55112.org
SUMMARY:A-ABCD
DESCRIPTION:
URL:https://www.crossroads55112.org/eventsingle/a-abcd-41/
END:VEVENT
BEGIN:VEVENT
DTSTART;TZID=America/Chicago:20260601T130000
DTEND;TZID=America/Chicago:20260601T140000
DTSTAMP:20260420T151856
CREATED:20260225T165034Z
LAST-MODIFIED:20260420T163315Z
UID:34170-1780318800-1780322400@www.crossroads55112.org
SUMMARY:A-Kitchen Kutups
DESCRIPTION:
URL:https://www.crossroads55112.org/eventsingle/a-kitchen-kutups-156/
END:VEVENT
BEGIN:VEVENT
DTSTART;TZID=America/Chicago:20260601T140000
DTEND;TZID=America/Chicago:20260601T160000
DTSTAMP:20260420T151856
CREATED:20251111T164735Z
LAST-MODIFIED:20260420T163315Z
UID:32783-1780322400-1780329600@www.crossroads55112.org
SUMMARY:A-Puzzles
DESCRIPTION:
URL:https://www.crossroads55112.org/eventsingle/a-puzzles-29/
END:VEVENT
BEGIN:VEVENT
DTSTART;TZID=America/Chicago:20260601T180000
DTEND;TZID=America/Chicago:20260601T190000
DTSTAMP:20260420T151856
CREATED:20251117T164234Z
LAST-MODIFIED:20260420T163315Z
UID:32931-1780336800-1780340400@www.crossroads55112.org
SUMMARY:A-Girl Souts
DESCRIPTION:
URL:https://www.crossroads55112.org/eventsingle/a-girl-souts-15/
END:VEVENT
END:VCALENDAR