BEGIN:VCALENDAR
VERSION:2.0
PRODID:-//Crossroads Parish - ECPv6.15.18//NONSGML v1.0//EN
CALSCALE:GREGORIAN
METHOD:PUBLISH
X-ORIGINAL-URL:https://www.crossroads55112.org
X-WR-CALDESC:Events for Crossroads Parish
REFRESH-INTERVAL;VALUE=DURATION:PT1H
X-Robots-Tag:noindex
X-PUBLISHED-TTL:PT1H
BEGIN:VTIMEZONE
TZID:America/Chicago
BEGIN:DAYLIGHT
TZOFFSETFROM:-0600
TZOFFSETTO:-0500
TZNAME:CDT
DTSTART:20250309T080000
END:DAYLIGHT
BEGIN:STANDARD
TZOFFSETFROM:-0500
TZOFFSETTO:-0600
TZNAME:CST
DTSTART:20251102T070000
END:STANDARD
BEGIN:DAYLIGHT
TZOFFSETFROM:-0600
TZOFFSETTO:-0500
TZNAME:CDT
DTSTART:20260308T080000
END:DAYLIGHT
BEGIN:STANDARD
TZOFFSETFROM:-0500
TZOFFSETTO:-0600
TZNAME:CST
DTSTART:20261101T070000
END:STANDARD
BEGIN:DAYLIGHT
TZOFFSETFROM:-0600
TZOFFSETTO:-0500
TZNAME:CDT
DTSTART:20270314T080000
END:DAYLIGHT
BEGIN:STANDARD
TZOFFSETFROM:-0500
TZOFFSETTO:-0600
TZNAME:CST
DTSTART:20271107T070000
END:STANDARD
END:VTIMEZONE
BEGIN:VEVENT
DTSTART;TZID=America/Chicago:20260607T083000
DTEND;TZID=America/Chicago:20260607T093000
DTSTAMP:20260420T213131
CREATED:20250827T163511Z
LAST-MODIFIED:20260420T163316Z
UID:30246-1780821000-1780824600@www.crossroads55112.org
SUMMARY:C-Worship
DESCRIPTION:
URL:https://www.crossroads55112.org/eventsingle/c-worship-80/
END:VEVENT
BEGIN:VEVENT
DTSTART;TZID=America/Chicago:20260607T093000
DTEND;TZID=America/Chicago:20260607T103000
DTSTAMP:20260420T213131
CREATED:20250827T163511Z
LAST-MODIFIED:20260420T163316Z
UID:30247-1780824600-1780828200@www.crossroads55112.org
SUMMARY:C-Sunday School/Youth
DESCRIPTION:
URL:https://www.crossroads55112.org/eventsingle/c-sunday-school-youth-118/
END:VEVENT
BEGIN:VEVENT
DTSTART;TZID=America/Chicago:20260607T100000
DTEND;TZID=America/Chicago:20260607T110000
DTSTAMP:20260420T213131
CREATED:20250827T163512Z
LAST-MODIFIED:20260420T163316Z
UID:30248-1780826400-1780830000@www.crossroads55112.org
SUMMARY:A-Faith Comm Church
DESCRIPTION:Lower level
URL:https://www.crossroads55112.org/eventsingle/a-faith-comm-church-193/
END:VEVENT
BEGIN:VEVENT
DTSTART;TZID=America/Chicago:20260607T104500
DTEND;TZID=America/Chicago:20260607T114500
DTSTAMP:20260420T213131
CREATED:20250827T163512Z
LAST-MODIFIED:20260420T163316Z
UID:30249-1780829100-1780832700@www.crossroads55112.org
SUMMARY:A-Worship
DESCRIPTION:
URL:https://www.crossroads55112.org/eventsingle/a-worship-89/
END:VEVENT
BEGIN:VEVENT
DTSTART;TZID=America/Chicago:20260607T120000
DTEND;TZID=America/Chicago:20260607T150000
DTSTAMP:20260420T213131
CREATED:20260124T165000Z
LAST-MODIFIED:20260420T163316Z
UID:33719-1780833600-1780844400@www.crossroads55112.org
SUMMARY:A-Cristo Rey
DESCRIPTION:
URL:https://www.crossroads55112.org/eventsingle/a-cristo-rey-51/
END:VEVENT
END:VCALENDAR