BEGIN:VCALENDAR
VERSION:2.0
PRODID:-//Crossroads Parish - ECPv6.15.18//NONSGML v1.0//EN
CALSCALE:GREGORIAN
METHOD:PUBLISH
X-WR-CALNAME:Crossroads Parish
X-ORIGINAL-URL:https://www.crossroads55112.org
X-WR-CALDESC:Events for Crossroads Parish
REFRESH-INTERVAL;VALUE=DURATION:PT1H
X-Robots-Tag:noindex
X-PUBLISHED-TTL:PT1H
BEGIN:VTIMEZONE
TZID:UTC
BEGIN:STANDARD
TZOFFSETFROM:+0000
TZOFFSETTO:+0000
TZNAME:UTC
DTSTART:20250101T000000
END:STANDARD
END:VTIMEZONE
BEGIN:VTIMEZONE
TZID:America/Chicago
BEGIN:DAYLIGHT
TZOFFSETFROM:-0600
TZOFFSETTO:-0500
TZNAME:CDT
DTSTART:20250309T080000
END:DAYLIGHT
BEGIN:STANDARD
TZOFFSETFROM:-0500
TZOFFSETTO:-0600
TZNAME:CST
DTSTART:20251102T070000
END:STANDARD
BEGIN:DAYLIGHT
TZOFFSETFROM:-0600
TZOFFSETTO:-0500
TZNAME:CDT
DTSTART:20260308T080000
END:DAYLIGHT
BEGIN:STANDARD
TZOFFSETFROM:-0500
TZOFFSETTO:-0600
TZNAME:CST
DTSTART:20261101T070000
END:STANDARD
BEGIN:DAYLIGHT
TZOFFSETFROM:-0600
TZOFFSETTO:-0500
TZNAME:CDT
DTSTART:20270314T080000
END:DAYLIGHT
BEGIN:STANDARD
TZOFFSETFROM:-0500
TZOFFSETTO:-0600
TZNAME:CST
DTSTART:20271107T070000
END:STANDARD
END:VTIMEZONE
BEGIN:VEVENT
DTSTART;VALUE=DATE:20260614
DTEND;VALUE=DATE:20260615
DTSTAMP:20260420T074306
CREATED:20250827T163518Z
LAST-MODIFIED:20260419T164451Z
UID:30263-1781395200-1781481599@www.crossroads55112.org
SUMMARY:A-Prayer Ministers
DESCRIPTION:
URL:https://www.crossroads55112.org/eventsingle/a-prayer-ministers-48/
END:VEVENT
BEGIN:VEVENT
DTSTART;TZID=America/Chicago:20260614T083000
DTEND;TZID=America/Chicago:20260614T093000
DTSTAMP:20260420T074306
CREATED:20250827T163518Z
LAST-MODIFIED:20260419T164451Z
UID:30264-1781425800-1781429400@www.crossroads55112.org
SUMMARY:C-Worship
DESCRIPTION:
URL:https://www.crossroads55112.org/eventsingle/c-worship-81/
END:VEVENT
BEGIN:VEVENT
DTSTART;TZID=America/Chicago:20260614T093000
DTEND;TZID=America/Chicago:20260614T103000
DTSTAMP:20260420T074306
CREATED:20250827T163518Z
LAST-MODIFIED:20260419T164451Z
UID:30265-1781429400-1781433000@www.crossroads55112.org
SUMMARY:C-Sunday School/Youth
DESCRIPTION:
URL:https://www.crossroads55112.org/eventsingle/c-sunday-school-youth-119/
END:VEVENT
BEGIN:VEVENT
DTSTART;TZID=America/Chicago:20260614T100000
DTEND;TZID=America/Chicago:20260614T110000
DTSTAMP:20260420T074306
CREATED:20250827T163519Z
LAST-MODIFIED:20260419T164451Z
UID:30266-1781431200-1781434800@www.crossroads55112.org
SUMMARY:A-Faith Comm Church
DESCRIPTION:Lower level
URL:https://www.crossroads55112.org/eventsingle/a-faith-comm-church-194/
END:VEVENT
BEGIN:VEVENT
DTSTART;TZID=America/Chicago:20260614T104500
DTEND;TZID=America/Chicago:20260614T114500
DTSTAMP:20260420T074306
CREATED:20250827T163519Z
LAST-MODIFIED:20260419T164451Z
UID:30267-1781433900-1781437500@www.crossroads55112.org
SUMMARY:A-Worship
DESCRIPTION:
URL:https://www.crossroads55112.org/eventsingle/a-worship-90/
END:VEVENT
BEGIN:VEVENT
DTSTART;TZID=America/Chicago:20260614T120000
DTEND;TZID=America/Chicago:20260614T150000
DTSTAMP:20260420T074306
CREATED:20260124T165045Z
LAST-MODIFIED:20260419T164451Z
UID:33720-1781438400-1781449200@www.crossroads55112.org
SUMMARY:A-Cristo Rey
DESCRIPTION:
URL:https://www.crossroads55112.org/eventsingle/a-cristo-rey-52/
END:VEVENT
END:VCALENDAR