BEGIN:VCALENDAR
VERSION:2.0
PRODID:-//Crossroads Parish - ECPv6.15.18//NONSGML v1.0//EN
CALSCALE:GREGORIAN
METHOD:PUBLISH
X-WR-CALNAME:Crossroads Parish
X-ORIGINAL-URL:https://www.crossroads55112.org
X-WR-CALDESC:Events for Crossroads Parish
REFRESH-INTERVAL;VALUE=DURATION:PT1H
X-Robots-Tag:noindex
X-PUBLISHED-TTL:PT1H
BEGIN:VTIMEZONE
TZID:America/Chicago
BEGIN:DAYLIGHT
TZOFFSETFROM:-0600
TZOFFSETTO:-0500
TZNAME:CDT
DTSTART:20250309T080000
END:DAYLIGHT
BEGIN:STANDARD
TZOFFSETFROM:-0500
TZOFFSETTO:-0600
TZNAME:CST
DTSTART:20251102T070000
END:STANDARD
BEGIN:DAYLIGHT
TZOFFSETFROM:-0600
TZOFFSETTO:-0500
TZNAME:CDT
DTSTART:20260308T080000
END:DAYLIGHT
BEGIN:STANDARD
TZOFFSETFROM:-0500
TZOFFSETTO:-0600
TZNAME:CST
DTSTART:20261101T070000
END:STANDARD
BEGIN:DAYLIGHT
TZOFFSETFROM:-0600
TZOFFSETTO:-0500
TZNAME:CDT
DTSTART:20270314T080000
END:DAYLIGHT
BEGIN:STANDARD
TZOFFSETFROM:-0500
TZOFFSETTO:-0600
TZNAME:CST
DTSTART:20271107T070000
END:STANDARD
END:VTIMEZONE
BEGIN:VEVENT
DTSTART;TZID=America/Chicago:20260823T083000
DTEND;TZID=America/Chicago:20260823T093000
DTSTAMP:20260423T003214
CREATED:20250827T163636Z
LAST-MODIFIED:20260422T163931Z
UID:30426-1787473800-1787477400@www.crossroads55112.org
SUMMARY:C-Worship
DESCRIPTION:
URL:https://www.crossroads55112.org/eventsingle/c-worship-91/
END:VEVENT
BEGIN:VEVENT
DTSTART;TZID=America/Chicago:20260823T093000
DTEND;TZID=America/Chicago:20260823T103000
DTSTAMP:20260423T003214
CREATED:20250827T163636Z
LAST-MODIFIED:20260422T163931Z
UID:30427-1787477400-1787481000@www.crossroads55112.org
SUMMARY:C-Sunday School/Youth
DESCRIPTION:
URL:https://www.crossroads55112.org/eventsingle/c-sunday-school-youth-129/
END:VEVENT
BEGIN:VEVENT
DTSTART;TZID=America/Chicago:20260823T100000
DTEND;TZID=America/Chicago:20260823T110000
DTSTAMP:20260423T003214
CREATED:20250827T163637Z
LAST-MODIFIED:20260422T163931Z
UID:30428-1787479200-1787482800@www.crossroads55112.org
SUMMARY:A-Faith Comm Church
DESCRIPTION:Lower level
URL:https://www.crossroads55112.org/eventsingle/a-faith-comm-church-204/
END:VEVENT
BEGIN:VEVENT
DTSTART;TZID=America/Chicago:20260823T104500
DTEND;TZID=America/Chicago:20260823T114500
DTSTAMP:20260423T003214
CREATED:20250827T163637Z
LAST-MODIFIED:20260422T163931Z
UID:30429-1787481900-1787485500@www.crossroads55112.org
SUMMARY:A-Worship
DESCRIPTION:
URL:https://www.crossroads55112.org/eventsingle/a-worship-100/
END:VEVENT
BEGIN:VEVENT
DTSTART;TZID=America/Chicago:20260823T120000
DTEND;TZID=America/Chicago:20260823T150000
DTSTAMP:20260423T003214
CREATED:20260124T165712Z
LAST-MODIFIED:20260422T163931Z
UID:33730-1787486400-1787497200@www.crossroads55112.org
SUMMARY:A-Cristo Rey
DESCRIPTION:
URL:https://www.crossroads55112.org/eventsingle/a-cristo-rey-62/
END:VEVENT
END:VCALENDAR