BEGIN:VCALENDAR
VERSION:2.0
PRODID:-//Crossroads Parish - ECPv6.15.18//NONSGML v1.0//EN
CALSCALE:GREGORIAN
METHOD:PUBLISH
X-WR-CALNAME:Crossroads Parish
X-ORIGINAL-URL:https://www.crossroads55112.org
X-WR-CALDESC:Events for Crossroads Parish
REFRESH-INTERVAL;VALUE=DURATION:PT1H
X-Robots-Tag:noindex
X-PUBLISHED-TTL:PT1H
BEGIN:VTIMEZONE
TZID:America/Chicago
BEGIN:DAYLIGHT
TZOFFSETFROM:-0600
TZOFFSETTO:-0500
TZNAME:CDT
DTSTART:20250309T080000
END:DAYLIGHT
BEGIN:STANDARD
TZOFFSETFROM:-0500
TZOFFSETTO:-0600
TZNAME:CST
DTSTART:20251102T070000
END:STANDARD
BEGIN:DAYLIGHT
TZOFFSETFROM:-0600
TZOFFSETTO:-0500
TZNAME:CDT
DTSTART:20260308T080000
END:DAYLIGHT
BEGIN:STANDARD
TZOFFSETFROM:-0500
TZOFFSETTO:-0600
TZNAME:CST
DTSTART:20261101T070000
END:STANDARD
BEGIN:DAYLIGHT
TZOFFSETFROM:-0600
TZOFFSETTO:-0500
TZNAME:CDT
DTSTART:20270314T080000
END:DAYLIGHT
BEGIN:STANDARD
TZOFFSETFROM:-0500
TZOFFSETTO:-0600
TZNAME:CST
DTSTART:20271107T070000
END:STANDARD
END:VTIMEZONE
BEGIN:VEVENT
DTSTART;TZID=America/Chicago:20260901T180000
DTEND;TZID=America/Chicago:20260901T183000
DTSTAMP:20260425T091159
CREATED:20250901T163244Z
LAST-MODIFIED:20260424T163632Z
UID:31396-1788285600-1788287400@www.crossroads55112.org
SUMMARY:A-Zumba
DESCRIPTION:
URL:https://www.crossroads55112.org/eventsingle/a-zumba-92/
END:VEVENT
BEGIN:VEVENT
DTSTART;TZID=America/Chicago:20260901T180000
DTEND;TZID=America/Chicago:20260901T193000
DTSTAMP:20260425T091159
CREATED:20250901T163245Z
LAST-MODIFIED:20260424T163632Z
UID:31397-1788285600-1788291000@www.crossroads55112.org
SUMMARY:C-Girl Scouts
DESCRIPTION:
URL:https://www.crossroads55112.org/eventsingle/c-girl-scouts-85/
END:VEVENT
BEGIN:VEVENT
DTSTART;TZID=America/Chicago:20260901T183000
DTEND;TZID=America/Chicago:20260901T193000
DTSTAMP:20260425T091159
CREATED:20250901T163245Z
LAST-MODIFIED:20260424T163632Z
UID:31398-1788287400-1788291000@www.crossroads55112.org
SUMMARY:C-Boy Scouts
DESCRIPTION:
URL:https://www.crossroads55112.org/eventsingle/c-boy-scouts-67/
END:VEVENT
END:VCALENDAR