BEGIN:VCALENDAR
VERSION:2.0
PRODID:-//Crossroads Parish - ECPv6.15.18//NONSGML v1.0//EN
CALSCALE:GREGORIAN
METHOD:PUBLISH
X-ORIGINAL-URL:https://www.crossroads55112.org
X-WR-CALDESC:Events for Crossroads Parish
REFRESH-INTERVAL;VALUE=DURATION:PT1H
X-Robots-Tag:noindex
X-PUBLISHED-TTL:PT1H
BEGIN:VTIMEZONE
TZID:America/Chicago
BEGIN:DAYLIGHT
TZOFFSETFROM:-0600
TZOFFSETTO:-0500
TZNAME:CDT
DTSTART:20250309T080000
END:DAYLIGHT
BEGIN:STANDARD
TZOFFSETFROM:-0500
TZOFFSETTO:-0600
TZNAME:CST
DTSTART:20251102T070000
END:STANDARD
BEGIN:DAYLIGHT
TZOFFSETFROM:-0600
TZOFFSETTO:-0500
TZNAME:CDT
DTSTART:20260308T080000
END:DAYLIGHT
BEGIN:STANDARD
TZOFFSETFROM:-0500
TZOFFSETTO:-0600
TZNAME:CST
DTSTART:20261101T070000
END:STANDARD
BEGIN:DAYLIGHT
TZOFFSETFROM:-0600
TZOFFSETTO:-0500
TZNAME:CDT
DTSTART:20270314T080000
END:DAYLIGHT
BEGIN:STANDARD
TZOFFSETFROM:-0500
TZOFFSETTO:-0600
TZNAME:CST
DTSTART:20271107T070000
END:STANDARD
END:VTIMEZONE
BEGIN:VEVENT
DTSTART;TZID=America/Chicago:20260907T080000
DTEND;TZID=America/Chicago:20260907T090000
DTSTAMP:20260420T080517
CREATED:20250909T124009Z
LAST-MODIFIED:20260419T164505Z
UID:31450-1788768000-1788771600@www.crossroads55112.org
SUMMARY:A-Bible Study
DESCRIPTION:At Atonement.
URL:https://www.crossroads55112.org/eventsingle/a-bible-study-150/
END:VEVENT
BEGIN:VEVENT
DTSTART;TZID=America/Chicago:20260907T130000
DTEND;TZID=America/Chicago:20260907T150000
DTSTAMP:20260420T080517
CREATED:20250909T124010Z
LAST-MODIFIED:20260419T164505Z
UID:31451-1788786000-1788793200@www.crossroads55112.org
SUMMARY:A-ABCD
DESCRIPTION:
URL:https://www.crossroads55112.org/eventsingle/a-abcd-44/
END:VEVENT
BEGIN:VEVENT
DTSTART;TZID=America/Chicago:20260907T130000
DTEND;TZID=America/Chicago:20260907T140000
DTSTAMP:20260420T080517
CREATED:20260225T165928Z
LAST-MODIFIED:20260419T164505Z
UID:34184-1788786000-1788789600@www.crossroads55112.org
SUMMARY:A-Kitchen Kutups
DESCRIPTION:
URL:https://www.crossroads55112.org/eventsingle/a-kitchen-kutups-170/
END:VEVENT
BEGIN:VEVENT
DTSTART;TZID=America/Chicago:20260907T140000
DTEND;TZID=America/Chicago:20260907T160000
DTSTAMP:20260420T080517
CREATED:20251111T165706Z
LAST-MODIFIED:20260419T164505Z
UID:32797-1788789600-1788796800@www.crossroads55112.org
SUMMARY:A-Puzzles
DESCRIPTION:
URL:https://www.crossroads55112.org/eventsingle/a-puzzles-43/
END:VEVENT
BEGIN:VEVENT
DTSTART;TZID=America/Chicago:20260907T180000
DTEND;TZID=America/Chicago:20260907T190000
DTSTAMP:20260420T080517
CREATED:20251117T164907Z
LAST-MODIFIED:20260419T164505Z
UID:32938-1788804000-1788807600@www.crossroads55112.org
SUMMARY:A-Girl Souts
DESCRIPTION:
URL:https://www.crossroads55112.org/eventsingle/a-girl-souts-22/
END:VEVENT
END:VCALENDAR