BEGIN:VCALENDAR
VERSION:2.0
PRODID:-//Crossroads Parish - ECPv6.15.18//NONSGML v1.0//EN
CALSCALE:GREGORIAN
METHOD:PUBLISH
X-ORIGINAL-URL:https://www.crossroads55112.org
X-WR-CALDESC:Events for Crossroads Parish
REFRESH-INTERVAL;VALUE=DURATION:PT1H
X-Robots-Tag:noindex
X-PUBLISHED-TTL:PT1H
BEGIN:VTIMEZONE
TZID:America/Chicago
BEGIN:DAYLIGHT
TZOFFSETFROM:-0600
TZOFFSETTO:-0500
TZNAME:CDT
DTSTART:20250309T080000
END:DAYLIGHT
BEGIN:STANDARD
TZOFFSETFROM:-0500
TZOFFSETTO:-0600
TZNAME:CST
DTSTART:20251102T070000
END:STANDARD
BEGIN:DAYLIGHT
TZOFFSETFROM:-0600
TZOFFSETTO:-0500
TZNAME:CDT
DTSTART:20260308T080000
END:DAYLIGHT
BEGIN:STANDARD
TZOFFSETFROM:-0500
TZOFFSETTO:-0600
TZNAME:CST
DTSTART:20261101T070000
END:STANDARD
BEGIN:DAYLIGHT
TZOFFSETFROM:-0600
TZOFFSETTO:-0500
TZNAME:CDT
DTSTART:20270314T080000
END:DAYLIGHT
BEGIN:STANDARD
TZOFFSETFROM:-0500
TZOFFSETTO:-0600
TZNAME:CST
DTSTART:20271107T070000
END:STANDARD
END:VTIMEZONE
BEGIN:VEVENT
DTSTART;TZID=America/Chicago:20260920T083000
DTEND;TZID=America/Chicago:20260920T093000
DTSTAMP:20260420T110519
CREATED:20250920T170119Z
LAST-MODIFIED:20260419T164507Z
UID:31780-1789893000-1789896600@www.crossroads55112.org
SUMMARY:C-Worship
DESCRIPTION:
URL:https://www.crossroads55112.org/eventsingle/c-worship-93/
END:VEVENT
BEGIN:VEVENT
DTSTART;TZID=America/Chicago:20260920T093000
DTEND;TZID=America/Chicago:20260920T103000
DTSTAMP:20260420T110519
CREATED:20250920T170122Z
LAST-MODIFIED:20260419T164507Z
UID:31781-1789896600-1789900200@www.crossroads55112.org
SUMMARY:C-Sunday School/Youth
DESCRIPTION:
URL:https://www.crossroads55112.org/eventsingle/c-sunday-school-youth-133/
END:VEVENT
BEGIN:VEVENT
DTSTART;TZID=America/Chicago:20260920T100000
DTEND;TZID=America/Chicago:20260920T110000
DTSTAMP:20260420T110519
CREATED:20250920T170124Z
LAST-MODIFIED:20260419T164507Z
UID:31782-1789898400-1789902000@www.crossroads55112.org
SUMMARY:A-Faith Comm Church
DESCRIPTION:Lower level
URL:https://www.crossroads55112.org/eventsingle/a-faith-comm-church-208/
END:VEVENT
BEGIN:VEVENT
DTSTART;TZID=America/Chicago:20260920T104500
DTEND;TZID=America/Chicago:20260920T114500
DTSTAMP:20260420T110519
CREATED:20250920T170126Z
LAST-MODIFIED:20260419T164507Z
UID:31783-1789901100-1789904700@www.crossroads55112.org
SUMMARY:A-Worship
DESCRIPTION:
URL:https://www.crossroads55112.org/eventsingle/a-worship-32/
END:VEVENT
BEGIN:VEVENT
DTSTART;TZID=America/Chicago:20260920T120000
DTEND;TZID=America/Chicago:20260920T150000
DTSTAMP:20260420T110519
CREATED:20260124T165946Z
LAST-MODIFIED:20260419T164507Z
UID:33734-1789905600-1789916400@www.crossroads55112.org
SUMMARY:A-Cristo Rey
DESCRIPTION:
URL:https://www.crossroads55112.org/eventsingle/a-cristo-rey-66/
END:VEVENT
END:VCALENDAR