BEGIN:VCALENDAR
VERSION:2.0
PRODID:-//Crossroads Parish - ECPv6.15.18//NONSGML v1.0//EN
CALSCALE:GREGORIAN
METHOD:PUBLISH
X-WR-CALNAME:Crossroads Parish
X-ORIGINAL-URL:https://www.crossroads55112.org
X-WR-CALDESC:Events for Crossroads Parish
REFRESH-INTERVAL;VALUE=DURATION:PT1H
X-Robots-Tag:noindex
X-PUBLISHED-TTL:PT1H
BEGIN:VTIMEZONE
TZID:America/Chicago
BEGIN:DAYLIGHT
TZOFFSETFROM:-0600
TZOFFSETTO:-0500
TZNAME:CDT
DTSTART:20250309T080000
END:DAYLIGHT
BEGIN:STANDARD
TZOFFSETFROM:-0500
TZOFFSETTO:-0600
TZNAME:CST
DTSTART:20251102T070000
END:STANDARD
BEGIN:DAYLIGHT
TZOFFSETFROM:-0600
TZOFFSETTO:-0500
TZNAME:CDT
DTSTART:20260308T080000
END:DAYLIGHT
BEGIN:STANDARD
TZOFFSETFROM:-0500
TZOFFSETTO:-0600
TZNAME:CST
DTSTART:20261101T070000
END:STANDARD
BEGIN:DAYLIGHT
TZOFFSETFROM:-0600
TZOFFSETTO:-0500
TZNAME:CDT
DTSTART:20270314T080000
END:DAYLIGHT
BEGIN:STANDARD
TZOFFSETFROM:-0500
TZOFFSETTO:-0600
TZNAME:CST
DTSTART:20271107T070000
END:STANDARD
END:VTIMEZONE
BEGIN:VEVENT
DTSTART;TZID=America/Chicago:20261018T083000
DTEND;TZID=America/Chicago:20261018T093000
DTSTAMP:20260425T185845
CREATED:20251018T171631Z
LAST-MODIFIED:20260425T164019Z
UID:32212-1792312200-1792315800@www.crossroads55112.org
SUMMARY:C-Worship
DESCRIPTION:
URL:https://www.crossroads55112.org/eventsingle/c-worship-28/
END:VEVENT
BEGIN:VEVENT
DTSTART;TZID=America/Chicago:20261018T093000
DTEND;TZID=America/Chicago:20261018T103000
DTSTAMP:20260425T185845
CREATED:20251018T171635Z
LAST-MODIFIED:20260425T164019Z
UID:32213-1792315800-1792319400@www.crossroads55112.org
SUMMARY:C-Sunday School/Youth
DESCRIPTION:
URL:https://www.crossroads55112.org/eventsingle/c-sunday-school-youth-137/
END:VEVENT
BEGIN:VEVENT
DTSTART;TZID=America/Chicago:20261018T100000
DTEND;TZID=America/Chicago:20261018T110000
DTSTAMP:20260425T185845
CREATED:20251018T171637Z
LAST-MODIFIED:20260425T164019Z
UID:32214-1792317600-1792321200@www.crossroads55112.org
SUMMARY:A-Faith Comm Church
DESCRIPTION:Lower level
URL:https://www.crossroads55112.org/eventsingle/a-faith-comm-church-213/
END:VEVENT
BEGIN:VEVENT
DTSTART;TZID=America/Chicago:20261018T104500
DTEND;TZID=America/Chicago:20261018T114500
DTSTAMP:20260425T185845
CREATED:20251018T171642Z
LAST-MODIFIED:20260425T164019Z
UID:32215-1792320300-1792323900@www.crossroads55112.org
SUMMARY:A-Worship
DESCRIPTION:
URL:https://www.crossroads55112.org/eventsingle/a-worship-36/
END:VEVENT
BEGIN:VEVENT
DTSTART;TZID=America/Chicago:20261018T120000
DTEND;TZID=America/Chicago:20261018T150000
DTSTAMP:20260425T185845
CREATED:20260124T170218Z
LAST-MODIFIED:20260425T164019Z
UID:33738-1792324800-1792335600@www.crossroads55112.org
SUMMARY:A-Cristo Rey
DESCRIPTION:
URL:https://www.crossroads55112.org/eventsingle/a-cristo-rey-70/
END:VEVENT
END:VCALENDAR