BEGIN:VCALENDAR
VERSION:2.0
PRODID:-//Crossroads Parish - ECPv6.15.18//NONSGML v1.0//EN
CALSCALE:GREGORIAN
METHOD:PUBLISH
X-WR-CALNAME:Crossroads Parish
X-ORIGINAL-URL:https://www.crossroads55112.org
X-WR-CALDESC:Events for Crossroads Parish
REFRESH-INTERVAL;VALUE=DURATION:PT1H
X-Robots-Tag:noindex
X-PUBLISHED-TTL:PT1H
BEGIN:VTIMEZONE
TZID:America/Chicago
BEGIN:DAYLIGHT
TZOFFSETFROM:-0600
TZOFFSETTO:-0500
TZNAME:CDT
DTSTART:20250309T080000
END:DAYLIGHT
BEGIN:STANDARD
TZOFFSETFROM:-0500
TZOFFSETTO:-0600
TZNAME:CST
DTSTART:20251102T070000
END:STANDARD
BEGIN:DAYLIGHT
TZOFFSETFROM:-0600
TZOFFSETTO:-0500
TZNAME:CDT
DTSTART:20260308T080000
END:DAYLIGHT
BEGIN:STANDARD
TZOFFSETFROM:-0500
TZOFFSETTO:-0600
TZNAME:CST
DTSTART:20261101T070000
END:STANDARD
BEGIN:DAYLIGHT
TZOFFSETFROM:-0600
TZOFFSETTO:-0500
TZNAME:CDT
DTSTART:20270314T080000
END:DAYLIGHT
BEGIN:STANDARD
TZOFFSETFROM:-0500
TZOFFSETTO:-0600
TZNAME:CST
DTSTART:20271107T070000
END:STANDARD
END:VTIMEZONE
BEGIN:VEVENT
DTSTART;TZID=America/Chicago:20261026T080000
DTEND;TZID=America/Chicago:20261026T090000
DTSTAMP:20260424T110456
CREATED:20251026T165655Z
LAST-MODIFIED:20260423T163337Z
UID:32450-1793001600-1793005200@www.crossroads55112.org
SUMMARY:A-Bible Study
DESCRIPTION:At Atonement.
URL:https://www.crossroads55112.org/eventsingle/a-bible-study-157/
END:VEVENT
BEGIN:VEVENT
DTSTART;TZID=America/Chicago:20261026T103000
DTEND;TZID=America/Chicago:20261026T113000
DTSTAMP:20260424T110456
CREATED:20260225T170353Z
LAST-MODIFIED:20260423T163337Z
UID:34192-1793010600-1793014200@www.crossroads55112.org
SUMMARY:A-Kitchen Kutups
DESCRIPTION:
URL:https://www.crossroads55112.org/eventsingle/a-kitchen-kutups-177/
END:VEVENT
BEGIN:VEVENT
DTSTART;TZID=America/Chicago:20261026T140000
DTEND;TZID=America/Chicago:20261026T160000
DTSTAMP:20260424T110456
CREATED:20251111T170156Z
LAST-MODIFIED:20260423T163337Z
UID:32804-1793023200-1793030400@www.crossroads55112.org
SUMMARY:A-Puzzles
DESCRIPTION:
URL:https://www.crossroads55112.org/eventsingle/a-puzzles-50/
END:VEVENT
BEGIN:VEVENT
DTSTART;TZID=America/Chicago:20261026T180000
DTEND;TZID=America/Chicago:20261026T200000
DTSTAMP:20260424T110456
CREATED:20251026T165700Z
LAST-MODIFIED:20260423T163337Z
UID:32453-1793037600-1793044800@www.crossroads55112.org
SUMMARY:A-Girl Scouts
DESCRIPTION:
URL:https://www.crossroads55112.org/eventsingle/a-girl-scouts-85/
END:VEVENT
END:VCALENDAR