BEGIN:VCALENDAR
VERSION:2.0
PRODID:-//Crossroads Parish - ECPv6.15.18//NONSGML v1.0//EN
CALSCALE:GREGORIAN
METHOD:PUBLISH
X-ORIGINAL-URL:https://www.crossroads55112.org
X-WR-CALDESC:Events for Crossroads Parish
REFRESH-INTERVAL;VALUE=DURATION:PT1H
X-Robots-Tag:noindex
X-PUBLISHED-TTL:PT1H
BEGIN:VTIMEZONE
TZID:America/Chicago
BEGIN:DAYLIGHT
TZOFFSETFROM:-0600
TZOFFSETTO:-0500
TZNAME:CDT
DTSTART:20220313T080000
END:DAYLIGHT
BEGIN:STANDARD
TZOFFSETFROM:-0500
TZOFFSETTO:-0600
TZNAME:CST
DTSTART:20221106T070000
END:STANDARD
BEGIN:DAYLIGHT
TZOFFSETFROM:-0600
TZOFFSETTO:-0500
TZNAME:CDT
DTSTART:20230312T080000
END:DAYLIGHT
BEGIN:STANDARD
TZOFFSETFROM:-0500
TZOFFSETTO:-0600
TZNAME:CST
DTSTART:20231105T070000
END:STANDARD
BEGIN:DAYLIGHT
TZOFFSETFROM:-0600
TZOFFSETTO:-0500
TZNAME:CDT
DTSTART:20240310T080000
END:DAYLIGHT
BEGIN:STANDARD
TZOFFSETFROM:-0500
TZOFFSETTO:-0600
TZNAME:CST
DTSTART:20241103T070000
END:STANDARD
END:VTIMEZONE
BEGIN:VEVENT
DTSTART;TZID=America/Chicago:20230305T083000
DTEND;TZID=America/Chicago:20230305T093000
DTSTAMP:20260421T210725
CREATED:20230301T232200Z
LAST-MODIFIED:20230331T164847Z
UID:24006-1678005000-1678008600@www.crossroads55112.org
SUMMARY:Worship @ Cross of Glory
DESCRIPTION:During Lent we journey with all those around the world who will be baptized at the Easter Vigil. In today’s gospel Jesus tells Nicodemus that he must be born of water and Spirit. At the font\, we are given a new birth as children of God. As God made a covenant with Abraham\, in baptism God promises to raise us up with Christ to new life. From worship\, we are sent forth to proclaim God’s love for all the world. \nOur service will be live-streamed from Atonement Lutheran Church starting at 10:30 AM. Click on the image above to watch the live stream. \nThe bulletin for this service can be found here: https://drive.google.com/uc?id=15hNw1j5nzZMwRnUCN9_iF0Na763_xTOU&export=download
URL:https://www.crossroads55112.org/eventsingle/2023-03-05_cog/
LOCATION:Cross of Glory Lutheran Church\, 5472 Adams Street\, Mounds View\, MN\, 55112\, United States
CATEGORIES:Meetings
END:VEVENT
BEGIN:VEVENT
DTSTART;TZID=America/Chicago:20230305T093000
DTEND;TZID=America/Chicago:20230305T103000
DTSTAMP:20260421T210725
CREATED:20230301T232200Z
LAST-MODIFIED:20230301T232200Z
UID:24007-1678008600-1678012200@www.crossroads55112.org
SUMMARY:C-Sun Sch/Youth
DESCRIPTION:
URL:https://www.crossroads55112.org/eventsingle/c-sun-sch-youth-4/
CATEGORIES:Meetings
END:VEVENT
BEGIN:VEVENT
DTSTART;TZID=America/Chicago:20230305T103000
DTEND;TZID=America/Chicago:20230305T113000
DTSTAMP:20260421T210725
CREATED:20230301T232200Z
LAST-MODIFIED:20230331T164847Z
UID:24008-1678012200-1678015800@www.crossroads55112.org
SUMMARY:Worship @ Atonement
DESCRIPTION:During Lent\, we journey with all those around the world who will be baptized at the Easter Vigil. In today’s gospel\, Jesus tells Nicodemus that he must be born of water and Spirit. At the font\, we are given a new birth as children of God. As God made a covenant with Abraham\, in baptism God promises to raise us up with Christ to new life. From worship\, we are sent forth to proclaim God’s love for all the world. \nOur service will be live-streamed from Atonement Lutheran Church starting at 10:30 AM. Click on the image above to watch the live stream. \nThe bulletin for this service can be found here: https://drive.google.com/uc?id=15hNw1j5nzZMwRnUCN9_iF0Na763_xTOU&export=download
URL:https://www.crossroads55112.org/eventsingle/2023-03-05_alc/
CATEGORIES:Meetings
END:VEVENT
BEGIN:VEVENT
DTSTART;TZID=America/Chicago:20230305T123000
DTEND;TZID=America/Chicago:20230305T143000
DTSTAMP:20260421T210725
CREATED:20230301T232200Z
LAST-MODIFIED:20230301T232200Z
UID:24009-1678019400-1678026600@www.crossroads55112.org
SUMMARY:A-Faith Comm Church
DESCRIPTION:
URL:https://www.crossroads55112.org/eventsingle/a-faith-comm-church-5/
CATEGORIES:Meetings
END:VEVENT
END:VCALENDAR