BEGIN:VCALENDAR
VERSION:2.0
PRODID:-//Crossroads Parish - ECPv6.15.18//NONSGML v1.0//EN
CALSCALE:GREGORIAN
METHOD:PUBLISH
X-ORIGINAL-URL:https://www.crossroads55112.org
X-WR-CALDESC:Events for Crossroads Parish
REFRESH-INTERVAL;VALUE=DURATION:PT1H
X-Robots-Tag:noindex
X-PUBLISHED-TTL:PT1H
BEGIN:VTIMEZONE
TZID:America/Chicago
BEGIN:DAYLIGHT
TZOFFSETFROM:-0600
TZOFFSETTO:-0500
TZNAME:CDT
DTSTART:20220313T080000
END:DAYLIGHT
BEGIN:STANDARD
TZOFFSETFROM:-0500
TZOFFSETTO:-0600
TZNAME:CST
DTSTART:20221106T070000
END:STANDARD
BEGIN:DAYLIGHT
TZOFFSETFROM:-0600
TZOFFSETTO:-0500
TZNAME:CDT
DTSTART:20230312T080000
END:DAYLIGHT
BEGIN:STANDARD
TZOFFSETFROM:-0500
TZOFFSETTO:-0600
TZNAME:CST
DTSTART:20231105T070000
END:STANDARD
BEGIN:DAYLIGHT
TZOFFSETFROM:-0600
TZOFFSETTO:-0500
TZNAME:CDT
DTSTART:20240310T080000
END:DAYLIGHT
BEGIN:STANDARD
TZOFFSETFROM:-0500
TZOFFSETTO:-0600
TZNAME:CST
DTSTART:20241103T070000
END:STANDARD
END:VTIMEZONE
BEGIN:VEVENT
DTSTART;TZID=America/Chicago:20230326T083000
DTEND;TZID=America/Chicago:20230326T093000
DTSTAMP:20260422T220932
CREATED:20230301T232209Z
LAST-MODIFIED:20230331T164811Z
UID:24064-1679819400-1679823000@www.crossroads55112.org
SUMMARY:Worship @ Cross of Glory
DESCRIPTION:In today’s gospel\, Jesus reveals his power over death by raising Lazarus from the dead. The prophet Ezekiel prophesies God breathing new life into dry bones. To those in exile or living in the shadows of death\, these stories proclaim God’s promise of resurrection. In baptism\, we die with Christ so that we might also be raised with him to new life. At the Easter Vigil\, we will welcome the newly baptized as we remember God’s unfailing promise in our baptism. \nOur service will be live-streamed from Cross of Glory Lutheran Church starting at 8:30 AM. Click on the image above to watch the live stream. \nThe bulletin for this service can be found here: https://drive.google.com/file/d/1Y2_Re9vWU4Dr-M5V6uPTkjhOlD0AkQAK/view?usp=share_link
URL:https://www.crossroads55112.org/eventsingle/2023-03-26_cog/
LOCATION:Cross of Glory Lutheran Church\, 5472 Adams Street\, Mounds View\, MN\, 55112\, United States
CATEGORIES:Meetings
END:VEVENT
BEGIN:VEVENT
DTSTART;TZID=America/Chicago:20230326T093000
DTEND;TZID=America/Chicago:20230326T103000
DTSTAMP:20260422T220932
CREATED:20230301T232209Z
LAST-MODIFIED:20230301T232209Z
UID:24065-1679823000-1679826600@www.crossroads55112.org
SUMMARY:C-Sun Sch/Youth
DESCRIPTION:
URL:https://www.crossroads55112.org/eventsingle/c-sun-sch-youth-7/
CATEGORIES:Meetings
END:VEVENT
BEGIN:VEVENT
DTSTART;TZID=America/Chicago:20230326T103000
DTEND;TZID=America/Chicago:20230326T113000
DTSTAMP:20260422T220932
CREATED:20230301T232209Z
LAST-MODIFIED:20230331T164811Z
UID:24066-1679826600-1679830200@www.crossroads55112.org
SUMMARY:Worship @ Atonement
DESCRIPTION:In today’s gospel\, Jesus reveals his power over death by raising Lazarus from the dead. The prophet Ezekiel prophesies God breathing new life into dry bones. To those in exile or living in the shadows of death\, these stories proclaim God’s promise of resurrection. In baptism\, we die with Christ so that we might also be raised with him to new life. At the Easter Vigil\, we will welcome the newly baptized as we remember God’s unfailing promise in our baptism. \nOur service will be live-streamed from Cross of Glory Lutheran Church starting at 8:30 AM. Click on the image above to watch the live stream. \nThe bulletin for this service can be found here: https://drive.google.com/file/d/1Y2_Re9vWU4Dr-M5V6uPTkjhOlD0AkQAK/view?usp=share_link
URL:https://www.crossroads55112.org/eventsingle/2023-03-26_alc/
LOCATION:Atonement Lutheran Church\, 1980 Silver Lake Road NW\, New Brighton\, MN\, 55112\, United States
CATEGORIES:Meetings
END:VEVENT
BEGIN:VEVENT
DTSTART;TZID=America/Chicago:20230326T123000
DTEND;TZID=America/Chicago:20230326T143000
DTSTAMP:20260422T220932
CREATED:20230301T232209Z
LAST-MODIFIED:20230301T232209Z
UID:24067-1679833800-1679841000@www.crossroads55112.org
SUMMARY:A-Faith Comm Church
DESCRIPTION:
URL:https://www.crossroads55112.org/eventsingle/a-faith-comm-church-8/
CATEGORIES:Meetings
END:VEVENT
END:VCALENDAR