BEGIN:VCALENDAR
VERSION:2.0
PRODID:-//Crossroads Parish - ECPv6.15.18//NONSGML v1.0//EN
CALSCALE:GREGORIAN
METHOD:PUBLISH
X-ORIGINAL-URL:https://www.crossroads55112.org
X-WR-CALDESC:Events for Crossroads Parish
REFRESH-INTERVAL;VALUE=DURATION:PT1H
X-Robots-Tag:noindex
X-PUBLISHED-TTL:PT1H
BEGIN:VTIMEZONE
TZID:America/Chicago
BEGIN:DAYLIGHT
TZOFFSETFROM:-0600
TZOFFSETTO:-0500
TZNAME:CDT
DTSTART:20250309T080000
END:DAYLIGHT
BEGIN:STANDARD
TZOFFSETFROM:-0500
TZOFFSETTO:-0600
TZNAME:CST
DTSTART:20251102T070000
END:STANDARD
BEGIN:DAYLIGHT
TZOFFSETFROM:-0600
TZOFFSETTO:-0500
TZNAME:CDT
DTSTART:20260308T080000
END:DAYLIGHT
BEGIN:STANDARD
TZOFFSETFROM:-0500
TZOFFSETTO:-0600
TZNAME:CST
DTSTART:20261101T070000
END:STANDARD
BEGIN:DAYLIGHT
TZOFFSETFROM:-0600
TZOFFSETTO:-0500
TZNAME:CDT
DTSTART:20270314T080000
END:DAYLIGHT
BEGIN:STANDARD
TZOFFSETFROM:-0500
TZOFFSETTO:-0600
TZNAME:CST
DTSTART:20271107T070000
END:STANDARD
END:VTIMEZONE
BEGIN:VEVENT
DTSTART;TZID=America/Chicago:20260416T130000
DTEND;TZID=America/Chicago:20260416T140000
DTSTAMP:20260425T064348
CREATED:20250827T163406Z
LAST-MODIFIED:20260416T163928Z
UID:30066-1776344400-1776348000@www.crossroads55112.org
SUMMARY:A-Game Day
DESCRIPTION:
URL:https://www.crossroads55112.org/eventsingle/a-game-day-178/
END:VEVENT
BEGIN:VEVENT
DTSTART;TZID=America/Chicago:20260416T150000
DTEND;TZID=America/Chicago:20260416T210000
DTSTAMP:20260425T064348
CREATED:20250919T164109Z
LAST-MODIFIED:20260416T163928Z
UID:31676-1776351600-1776373200@www.crossroads55112.org
SUMMARY:C-Marnie Thies Violin Lessons
DESCRIPTION:
URL:https://www.crossroads55112.org/eventsingle/c-marnie-thies-violin-lessons-30/
END:VEVENT
BEGIN:VEVENT
DTSTART;TZID=America/Chicago:20260417T170000
DTEND;TZID=America/Chicago:20260417T190000
DTSTAMP:20260425T064348
CREATED:20250827T163407Z
LAST-MODIFIED:20260417T164353Z
UID:30072-1776445200-1776452400@www.crossroads55112.org
SUMMARY:C-New Birth Church
DESCRIPTION:
URL:https://www.crossroads55112.org/eventsingle/c-new-birth-church-370/
END:VEVENT
BEGIN:VEVENT
DTSTART;TZID=America/Chicago:20260417T183000
DTEND;TZID=America/Chicago:20260417T200000
DTSTAMP:20260425T064348
CREATED:20260401T163742Z
LAST-MODIFIED:20260417T164353Z
UID:34641-1776450600-1776456000@www.crossroads55112.org
SUMMARY:Faith and a Pint
DESCRIPTION:
URL:https://www.crossroads55112.org/eventsingle/faith-and-a-pint-60/
END:VEVENT
BEGIN:VEVENT
DTSTART;TZID=America/Chicago:20260418T090000
DTEND;TZID=America/Chicago:20260418T150000
DTSTAMP:20260425T064348
CREATED:20250827T163408Z
LAST-MODIFIED:20260417T164353Z
UID:30074-1776502800-1776524400@www.crossroads55112.org
SUMMARY:C-New Birth Church
DESCRIPTION:
URL:https://www.crossroads55112.org/eventsingle/c-new-birth-church-372/
END:VEVENT
BEGIN:VEVENT
DTSTART;TZID=America/Chicago:20260418T090000
DTEND;TZID=America/Chicago:20260418T150000
DTSTAMP:20260425T064348
CREATED:20250827T163409Z
LAST-MODIFIED:20260417T164353Z
UID:30076-1776502800-1776524400@www.crossroads55112.org
SUMMARY:A-Mount of Blessing Church
DESCRIPTION:
URL:https://www.crossroads55112.org/eventsingle/a-mount-of-blessing-church-200/
END:VEVENT
BEGIN:VEVENT
DTSTART;TZID=America/Chicago:20260419T083000
DTEND;TZID=America/Chicago:20260419T093000
DTSTAMP:20260425T064348
CREATED:20250827T163410Z
LAST-MODIFIED:20260419T164441Z
UID:30078-1776587400-1776591000@www.crossroads55112.org
SUMMARY:C-Worship
DESCRIPTION:
URL:https://www.crossroads55112.org/eventsingle/c-worship-69/
END:VEVENT
BEGIN:VEVENT
DTSTART;TZID=America/Chicago:20260419T093000
DTEND;TZID=America/Chicago:20260419T103000
DTSTAMP:20260425T064348
CREATED:20250827T163410Z
LAST-MODIFIED:20260419T164441Z
UID:30080-1776591000-1776594600@www.crossroads55112.org
SUMMARY:C-Sunday School/Youth
DESCRIPTION:
URL:https://www.crossroads55112.org/eventsingle/c-sunday-school-youth-107/
END:VEVENT
BEGIN:VEVENT
DTSTART;TZID=America/Chicago:20260419T100000
DTEND;TZID=America/Chicago:20260419T110000
DTSTAMP:20260425T064348
CREATED:20250827T163411Z
LAST-MODIFIED:20260419T164441Z
UID:30082-1776592800-1776596400@www.crossroads55112.org
SUMMARY:A-Faith Comm Church
DESCRIPTION:Lower level
URL:https://www.crossroads55112.org/eventsingle/a-faith-comm-church-182/
END:VEVENT
BEGIN:VEVENT
DTSTART;TZID=America/Chicago:20260419T104500
DTEND;TZID=America/Chicago:20260419T114500
DTSTAMP:20260425T064348
CREATED:20250827T163411Z
LAST-MODIFIED:20260419T164441Z
UID:30084-1776595500-1776599100@www.crossroads55112.org
SUMMARY:A-Worship
DESCRIPTION:
URL:https://www.crossroads55112.org/eventsingle/a-worship-78/
END:VEVENT
BEGIN:VEVENT
DTSTART;TZID=America/Chicago:20260419T120000
DTEND;TZID=America/Chicago:20260419T150000
DTSTAMP:20260425T064348
CREATED:20260124T164532Z
LAST-MODIFIED:20260419T164441Z
UID:33712-1776600000-1776610800@www.crossroads55112.org
SUMMARY:A-Cristo Rey
DESCRIPTION:
URL:https://www.crossroads55112.org/eventsingle/a-cristo-rey-38/
LOCATION:Atonement Lutheran Church\, 1980 Silver Lake Road NW\, New Brighton\, MN\, 55112\, United States
CATEGORIES:Worship
END:VEVENT
BEGIN:VEVENT
DTSTART;TZID=America/Chicago:20260420T080000
DTEND;TZID=America/Chicago:20260420T090000
DTSTAMP:20260425T064348
CREATED:20250827T163412Z
LAST-MODIFIED:20260420T163309Z
UID:30088-1776672000-1776675600@www.crossroads55112.org
SUMMARY:A-Bible Study
DESCRIPTION:At Atonement.
URL:https://www.crossroads55112.org/eventsingle/a-bible-study-127/
END:VEVENT
BEGIN:VEVENT
DTSTART;TZID=America/Chicago:20260420T130000
DTEND;TZID=America/Chicago:20260420T140000
DTSTAMP:20260425T064348
CREATED:20260225T164650Z
LAST-MODIFIED:20260420T163309Z
UID:34164-1776690000-1776693600@www.crossroads55112.org
SUMMARY:A-Kitchen Kutups
DESCRIPTION:
URL:https://www.crossroads55112.org/eventsingle/a-kitchen-kutups-150/
END:VEVENT
BEGIN:VEVENT
DTSTART;TZID=America/Chicago:20260420T140000
DTEND;TZID=America/Chicago:20260420T160000
DTSTAMP:20260425T064348
CREATED:20251111T164344Z
LAST-MODIFIED:20260420T163309Z
UID:32777-1776693600-1776700800@www.crossroads55112.org
SUMMARY:A-Puzzles
DESCRIPTION:
URL:https://www.crossroads55112.org/eventsingle/a-puzzles-23/
END:VEVENT
BEGIN:VEVENT
DTSTART;TZID=America/Chicago:20260420T180000
DTEND;TZID=America/Chicago:20260420T190000
DTSTAMP:20260425T064348
CREATED:20251117T163959Z
LAST-MODIFIED:20260420T163309Z
UID:32928-1776708000-1776711600@www.crossroads55112.org
SUMMARY:A-Girl Souts
DESCRIPTION:
URL:https://www.crossroads55112.org/eventsingle/a-girl-souts-12/
END:VEVENT
BEGIN:VEVENT
DTSTART;TZID=America/Chicago:20260421T180000
DTEND;TZID=America/Chicago:20260421T183000
DTSTAMP:20260425T064348
CREATED:20250827T163412Z
LAST-MODIFIED:20260421T163500Z
UID:30090-1776794400-1776796200@www.crossroads55112.org
SUMMARY:A-Zumba
DESCRIPTION:
URL:https://www.crossroads55112.org/eventsingle/a-zumba-70/
END:VEVENT
BEGIN:VEVENT
DTSTART;TZID=America/Chicago:20260421T180000
DTEND;TZID=America/Chicago:20260421T193000
DTSTAMP:20260425T064348
CREATED:20250827T163413Z
LAST-MODIFIED:20260421T163500Z
UID:30092-1776794400-1776799800@www.crossroads55112.org
SUMMARY:C-Girl Scouts
DESCRIPTION:Bryan Bloomquist   bmbloomquist@gmail.com
URL:https://www.crossroads55112.org/eventsingle/c-girl-scouts-74/
END:VEVENT
BEGIN:VEVENT
DTSTART;TZID=America/Chicago:20260421T183000
DTEND;TZID=America/Chicago:20260421T200000
DTSTAMP:20260425T064348
CREATED:20250827T163413Z
LAST-MODIFIED:20260421T163501Z
UID:30094-1776796200-1776801600@www.crossroads55112.org
SUMMARY:C-Boy Scouts
DESCRIPTION:
URL:https://www.crossroads55112.org/eventsingle/c-boy-scouts-56/
END:VEVENT
BEGIN:VEVENT
DTSTART;TZID=America/Chicago:20260422T183000
DTEND;TZID=America/Chicago:20260422T193000
DTSTAMP:20260425T064348
CREATED:20251101T164340Z
LAST-MODIFIED:20260422T163911Z
UID:32511-1776882600-1776886200@www.crossroads55112.org
SUMMARY:ALC Choir Rehearsal
DESCRIPTION:
URL:https://www.crossroads55112.org/eventsingle/alc-choir-rehearsal-21/
END:VEVENT
BEGIN:VEVENT
DTSTART;TZID=America/Chicago:20260423T130000
DTEND;TZID=America/Chicago:20260423T140000
DTSTAMP:20260425T064348
CREATED:20250827T163413Z
LAST-MODIFIED:20260423T163308Z
UID:30096-1776949200-1776952800@www.crossroads55112.org
SUMMARY:A-Game Day
DESCRIPTION:
URL:https://www.crossroads55112.org/eventsingle/a-game-day-180/
END:VEVENT
BEGIN:VEVENT
DTSTART;TZID=America/Chicago:20260423T150000
DTEND;TZID=America/Chicago:20260423T210000
DTSTAMP:20260425T064348
CREATED:20250919T164137Z
LAST-MODIFIED:20260423T163308Z
UID:31678-1776956400-1776978000@www.crossroads55112.org
SUMMARY:C-Marnie Thies Violin Lessons
DESCRIPTION:
URL:https://www.crossroads55112.org/eventsingle/c-marnie-thies-violin-lessons-31/
END:VEVENT
BEGIN:VEVENT
DTSTART;TZID=America/Chicago:20260424T160000
DTEND;TZID=America/Chicago:20260424T170000
DTSTAMP:20260425T064348
CREATED:20260402T163718Z
LAST-MODIFIED:20260424T163611Z
UID:34648-1777046400-1777050000@www.crossroads55112.org
SUMMARY:A-Charitable Giving Offsite
DESCRIPTION:
URL:https://www.crossroads55112.org/eventsingle/a-charitable-giving-offsite-10/
END:VEVENT
BEGIN:VEVENT
DTSTART;TZID=America/Chicago:20260424T170000
DTEND;TZID=America/Chicago:20260424T190000
DTSTAMP:20260425T064348
CREATED:20250827T163415Z
LAST-MODIFIED:20260424T163611Z
UID:30102-1777050000-1777057200@www.crossroads55112.org
SUMMARY:C-New Birth Church
DESCRIPTION:
URL:https://www.crossroads55112.org/eventsingle/c-new-birth-church-374/
END:VEVENT
BEGIN:VEVENT
DTSTART;TZID=America/Chicago:20260425T090000
DTEND;TZID=America/Chicago:20260425T150000
DTSTAMP:20260425T064348
CREATED:20250827T163416Z
LAST-MODIFIED:20260409T163158Z
UID:30106-1777107600-1777129200@www.crossroads55112.org
SUMMARY:C-New Birth Church
DESCRIPTION:
URL:https://www.crossroads55112.org/eventsingle/c-new-birth-church-376/
END:VEVENT
BEGIN:VEVENT
DTSTART;TZID=America/Chicago:20260425T090000
DTEND;TZID=America/Chicago:20260425T150000
DTSTAMP:20260425T064348
CREATED:20250827T163417Z
LAST-MODIFIED:20260424T163611Z
UID:30108-1777107600-1777129200@www.crossroads55112.org
SUMMARY:A-Mount of Blessing Church
DESCRIPTION:
URL:https://www.crossroads55112.org/eventsingle/a-mount-of-blessing-church-201/
END:VEVENT
BEGIN:VEVENT
DTSTART;TZID=America/Chicago:20260425T090000
DTEND;TZID=America/Chicago:20260425T140000
DTSTAMP:20260425T064348
CREATED:20260410T164036Z
LAST-MODIFIED:20260424T163611Z
UID:34798-1777107600-1777125600@www.crossroads55112.org
SUMMARY:C-Spring Fling Craft & Bake Sale
DESCRIPTION:
URL:https://www.crossroads55112.org/eventsingle/c-spring-fling-craft-bake-sale/
END:VEVENT
BEGIN:VEVENT
DTSTART;TZID=America/Chicago:20260426T083000
DTEND;TZID=America/Chicago:20260426T093000
DTSTAMP:20260425T064348
CREATED:20250827T163418Z
LAST-MODIFIED:20260424T214332Z
UID:30110-1777192200-1777195800@www.crossroads55112.org
SUMMARY:Worship @ Cross of Glory
DESCRIPTION:Today is sometimes called “Good Shepherd Sunday.” Jesus is called the “gate” of the sheep in today’s gospel. The risen Christ opens the way to abundant life. He anoints our heads with oil and guides us beside the still waters of our baptism. Each Sunday\, he spreads a feast before us amid the world’s violence and war. We go forth to be signs of the resurrection and extend God’s tender care to all creation. \nOur service will be live-streamed from Cross of Glory Lutheran Church starting at 8:30 AM. Click on the image above to watch the live stream. \nThe bulletin for this service can be found here: https://drive.google.com/file/d/1BRNxCKRLuoGedaLkQhb1PkQEdKHqFe9r/view?usp=drive_link
URL:https://www.crossroads55112.org/eventsingle/2026-04-26_cog/
LOCATION:Cross of Glory Lutheran Church\, 5472 Adams Street\, Mounds View\, MN\, 55112\, United States
CATEGORIES:Worship
END:VEVENT
BEGIN:VEVENT
DTSTART;TZID=America/Chicago:20260426T093000
DTEND;TZID=America/Chicago:20260426T103000
DTSTAMP:20260425T064348
CREATED:20250827T163418Z
LAST-MODIFIED:20260424T163611Z
UID:30112-1777195800-1777199400@www.crossroads55112.org
SUMMARY:C-Sunday School/Youth
DESCRIPTION:
URL:https://www.crossroads55112.org/eventsingle/c-sunday-school-youth-109/
END:VEVENT
BEGIN:VEVENT
DTSTART;TZID=America/Chicago:20260426T100000
DTEND;TZID=America/Chicago:20260426T110000
DTSTAMP:20260425T064348
CREATED:20250827T163419Z
LAST-MODIFIED:20260424T163611Z
UID:30114-1777197600-1777201200@www.crossroads55112.org
SUMMARY:A-Faith Comm Church
DESCRIPTION:Lower level
URL:https://www.crossroads55112.org/eventsingle/a-faith-comm-church-184/
END:VEVENT
BEGIN:VEVENT
DTSTART;TZID=America/Chicago:20260426T104500
DTEND;TZID=America/Chicago:20260426T114500
DTSTAMP:20260425T064348
CREATED:20250827T163420Z
LAST-MODIFIED:20260424T214445Z
UID:30116-1777200300-1777203900@www.crossroads55112.org
SUMMARY:Worship @ Atonement
DESCRIPTION:Today is sometimes called “Good Shepherd Sunday.” Jesus is called the “gate” of the sheep in today’s gospel. The risen Christ opens the way to abundant life. He anoints our heads with oil and guides us beside the still waters of our baptism. Each Sunday\, he spreads a feast before us amid the world’s violence and war. We go forth to be signs of the resurrection and extend God’s tender care to all creation. \nOur service will be live-streamed from Cross of Glory Lutheran Church starting at 8:30 AM. Click on the image above to watch the live stream. \nThe bulletin for this service can be found here: https://drive.google.com/file/d/1BRNxCKRLuoGedaLkQhb1PkQEdKHqFe9r/view?usp=drive_link
URL:https://www.crossroads55112.org/eventsingle/2026-04-26_alc/
LOCATION:Atonement Lutheran Church\, 1980 Silver Lake Road NW\, New Brighton\, MN\, 55112\, United States
CATEGORIES:Worship
END:VEVENT
END:VCALENDAR