BEGIN:VCALENDAR
VERSION:2.0
PRODID:-//Crossroads Parish - ECPv6.15.18//NONSGML v1.0//EN
CALSCALE:GREGORIAN
METHOD:PUBLISH
X-WR-CALNAME:Crossroads Parish
X-ORIGINAL-URL:https://www.crossroads55112.org
X-WR-CALDESC:Events for Crossroads Parish
REFRESH-INTERVAL;VALUE=DURATION:PT1H
X-Robots-Tag:noindex
X-PUBLISHED-TTL:PT1H
BEGIN:VTIMEZONE
TZID:America/Chicago
BEGIN:DAYLIGHT
TZOFFSETFROM:-0600
TZOFFSETTO:-0500
TZNAME:CDT
DTSTART:20260308T080000
END:DAYLIGHT
BEGIN:STANDARD
TZOFFSETFROM:-0500
TZOFFSETTO:-0600
TZNAME:CST
DTSTART:20261101T070000
END:STANDARD
BEGIN:DAYLIGHT
TZOFFSETFROM:-0600
TZOFFSETTO:-0500
TZNAME:CDT
DTSTART:20270314T080000
END:DAYLIGHT
BEGIN:STANDARD
TZOFFSETFROM:-0500
TZOFFSETTO:-0600
TZNAME:CST
DTSTART:20271107T070000
END:STANDARD
BEGIN:DAYLIGHT
TZOFFSETFROM:-0600
TZOFFSETTO:-0500
TZNAME:CDT
DTSTART:20280312T080000
END:DAYLIGHT
BEGIN:STANDARD
TZOFFSETFROM:-0500
TZOFFSETTO:-0600
TZNAME:CST
DTSTART:20281105T070000
END:STANDARD
END:VTIMEZONE
BEGIN:VEVENT
DTSTART;TZID=America/Chicago:20270413T180000
DTEND;TZID=America/Chicago:20270413T183000
DTSTAMP:20260419T135300
CREATED:20260413T163431Z
LAST-MODIFIED:20260419T164540Z
UID:34858-1807639200-1807641000@www.crossroads55112.org
SUMMARY:A-Zumba
DESCRIPTION:
URL:https://www.crossroads55112.org/eventsingle/a-zumba-69/
END:VEVENT
BEGIN:VEVENT
DTSTART;TZID=America/Chicago:20270413T183000
DTEND;TZID=America/Chicago:20270413T200000
DTSTAMP:20260419T135300
CREATED:20260413T163431Z
LAST-MODIFIED:20260419T164540Z
UID:34859-1807641000-1807646400@www.crossroads55112.org
SUMMARY:C-Council Meeting
DESCRIPTION:
URL:https://www.crossroads55112.org/eventsingle/c-council-meeting-11/
END:VEVENT
BEGIN:VEVENT
DTSTART;TZID=America/Chicago:20270414T183000
DTEND;TZID=America/Chicago:20270414T193000
DTSTAMP:20260419T135300
CREATED:20260414T164553Z
LAST-MODIFIED:20260419T164540Z
UID:34863-1807727400-1807731000@www.crossroads55112.org
SUMMARY:ALC Choir Rehearsal
DESCRIPTION:
URL:https://www.crossroads55112.org/eventsingle/alc-choir-rehearsal-72/
END:VEVENT
BEGIN:VEVENT
DTSTART;TZID=America/Chicago:20270415T130000
DTEND;TZID=America/Chicago:20270415T140000
DTSTAMP:20260419T135300
CREATED:20260415T163637Z
LAST-MODIFIED:20260419T164540Z
UID:34866-1807794000-1807797600@www.crossroads55112.org
SUMMARY:A-Game Day
DESCRIPTION:
URL:https://www.crossroads55112.org/eventsingle/a-game-day-177/
END:VEVENT
BEGIN:VEVENT
DTSTART;TZID=America/Chicago:20270415T150000
DTEND;TZID=America/Chicago:20270415T210000
DTSTAMP:20260419T135300
CREATED:20260415T163637Z
LAST-MODIFIED:20260419T164540Z
UID:34867-1807801200-1807822800@www.crossroads55112.org
SUMMARY:C-Marnie Thies Violin Lessons
DESCRIPTION:
URL:https://www.crossroads55112.org/eventsingle/c-marnie-thies-violin-lessons-82/
END:VEVENT
BEGIN:VEVENT
DTSTART;TZID=America/Chicago:20270416T170000
DTEND;TZID=America/Chicago:20270416T190000
DTSTAMP:20260419T135300
CREATED:20260416T164031Z
LAST-MODIFIED:20260419T164540Z
UID:34871-1807894800-1807902000@www.crossroads55112.org
SUMMARY:C-New Birth Church
DESCRIPTION:
URL:https://www.crossroads55112.org/eventsingle/c-new-birth-church-365/
END:VEVENT
BEGIN:VEVENT
DTSTART;TZID=America/Chicago:20270417T090000
DTEND;TZID=America/Chicago:20270417T150000
DTSTAMP:20260419T135300
CREATED:20260417T164518Z
LAST-MODIFIED:20260419T164540Z
UID:34884-1807952400-1807974000@www.crossroads55112.org
SUMMARY:A-Mount of Blessing Church
DESCRIPTION:
URL:https://www.crossroads55112.org/eventsingle/a-mount-of-blessing-church-202/
END:VEVENT
BEGIN:VEVENT
DTSTART;TZID=America/Chicago:20270417T090000
DTEND;TZID=America/Chicago:20270417T150000
DTSTAMP:20260419T135300
CREATED:20260417T164518Z
LAST-MODIFIED:20260419T164540Z
UID:34883-1807952400-1807974000@www.crossroads55112.org
SUMMARY:C-New Birth Church
DESCRIPTION:
URL:https://www.crossroads55112.org/eventsingle/c-new-birth-church-367/
END:VEVENT
BEGIN:VEVENT
DTSTART;TZID=America/Chicago:20270418T083000
DTEND;TZID=America/Chicago:20270418T093000
DTSTAMP:20260419T135300
CREATED:20260419T130745Z
LAST-MODIFIED:20260419T164541Z
UID:34897-1808037000-1808040600@www.crossroads55112.org
SUMMARY:C-Worship
DESCRIPTION:
URL:https://www.crossroads55112.org/eventsingle/c-worship-60/
END:VEVENT
BEGIN:VEVENT
DTSTART;TZID=America/Chicago:20270418T093000
DTEND;TZID=America/Chicago:20270418T103000
DTSTAMP:20260419T135300
CREATED:20260419T130746Z
LAST-MODIFIED:20260419T164541Z
UID:34898-1808040600-1808044200@www.crossroads55112.org
SUMMARY:C-Sunday School/Youth
DESCRIPTION:
URL:https://www.crossroads55112.org/eventsingle/c-sunday-school-youth-106/
END:VEVENT
BEGIN:VEVENT
DTSTART;TZID=America/Chicago:20270418T100000
DTEND;TZID=America/Chicago:20270418T110000
DTSTAMP:20260419T135300
CREATED:20260419T130746Z
LAST-MODIFIED:20260419T164541Z
UID:34899-1808042400-1808046000@www.crossroads55112.org
SUMMARY:A-Faith Comm Church
DESCRIPTION:Lower level
URL:https://www.crossroads55112.org/eventsingle/a-faith-comm-church-181/
END:VEVENT
BEGIN:VEVENT
DTSTART;TZID=America/Chicago:20270418T104500
DTEND;TZID=America/Chicago:20270418T114500
DTSTAMP:20260419T135300
CREATED:20260419T130746Z
LAST-MODIFIED:20260419T164541Z
UID:34900-1808045100-1808048700@www.crossroads55112.org
SUMMARY:A-Worship
DESCRIPTION:
URL:https://www.crossroads55112.org/eventsingle/a-worship-69/
END:VEVENT
BEGIN:VEVENT
DTSTART;TZID=America/Chicago:20270418T120000
DTEND;TZID=America/Chicago:20270418T150000
DTSTAMP:20260419T135300
CREATED:20260419T130747Z
LAST-MODIFIED:20260419T164541Z
UID:34901-1808049600-1808060400@www.crossroads55112.org
SUMMARY:A-Cristo Rey
DESCRIPTION:
URL:https://www.crossroads55112.org/eventsingle/a-cristo-rey-96/
END:VEVENT
BEGIN:VEVENT
DTSTART;TZID=America/Chicago:20270419T080000
DTEND;TZID=America/Chicago:20270419T090000
DTSTAMP:20260419T135300
CREATED:20260419T130747Z
LAST-MODIFIED:20260419T164541Z
UID:34902-1808121600-1808125200@www.crossroads55112.org
SUMMARY:A-Bible Study
DESCRIPTION:At Atonement.
URL:https://www.crossroads55112.org/eventsingle/a-bible-study-126/
END:VEVENT
BEGIN:VEVENT
DTSTART;TZID=America/Chicago:20270419T130000
DTEND;TZID=America/Chicago:20270419T140000
DTSTAMP:20260419T135300
CREATED:20260419T130748Z
LAST-MODIFIED:20260419T164541Z
UID:34903-1808139600-1808143200@www.crossroads55112.org
SUMMARY:A-Kitchen Kutups
DESCRIPTION:
URL:https://www.crossroads55112.org/eventsingle/a-kitchen-kutups-108/
END:VEVENT
BEGIN:VEVENT
DTSTART;TZID=America/Chicago:20270419T140000
DTEND;TZID=America/Chicago:20270419T160000
DTSTAMP:20260419T135300
CREATED:20260419T130748Z
LAST-MODIFIED:20260419T164541Z
UID:34904-1808143200-1808150400@www.crossroads55112.org
SUMMARY:A-Puzzles
DESCRIPTION:
URL:https://www.crossroads55112.org/eventsingle/a-puzzles-75/
END:VEVENT
BEGIN:VEVENT
DTSTART;TZID=America/Chicago:20270419T180000
DTEND;TZID=America/Chicago:20270419T190000
DTSTAMP:20260419T135300
CREATED:20260419T130748Z
LAST-MODIFIED:20260419T164541Z
UID:34905-1808157600-1808161200@www.crossroads55112.org
SUMMARY:A-Girl Souts
DESCRIPTION:
URL:https://www.crossroads55112.org/eventsingle/a-girl-souts-38/
END:VEVENT
END:VCALENDAR