BEGIN:VCALENDAR
VERSION:2.0
PRODID:-//Crossroads Parish - ECPv6.15.18//NONSGML v1.0//EN
CALSCALE:GREGORIAN
METHOD:PUBLISH
X-ORIGINAL-URL:https://www.crossroads55112.org
X-WR-CALDESC:Events for Crossroads Parish
REFRESH-INTERVAL;VALUE=DURATION:PT1H
X-Robots-Tag:noindex
X-PUBLISHED-TTL:PT1H
BEGIN:VTIMEZONE
TZID:America/Chicago
BEGIN:DAYLIGHT
TZOFFSETFROM:-0600
TZOFFSETTO:-0500
TZNAME:CDT
DTSTART:20260308T080000
END:DAYLIGHT
BEGIN:STANDARD
TZOFFSETFROM:-0500
TZOFFSETTO:-0600
TZNAME:CST
DTSTART:20261101T070000
END:STANDARD
BEGIN:DAYLIGHT
TZOFFSETFROM:-0600
TZOFFSETTO:-0500
TZNAME:CDT
DTSTART:20270314T080000
END:DAYLIGHT
BEGIN:STANDARD
TZOFFSETFROM:-0500
TZOFFSETTO:-0600
TZNAME:CST
DTSTART:20271107T070000
END:STANDARD
BEGIN:DAYLIGHT
TZOFFSETFROM:-0600
TZOFFSETTO:-0500
TZNAME:CDT
DTSTART:20280312T080000
END:DAYLIGHT
BEGIN:STANDARD
TZOFFSETFROM:-0500
TZOFFSETTO:-0600
TZNAME:CST
DTSTART:20281105T070000
END:STANDARD
END:VTIMEZONE
BEGIN:VEVENT
DTSTART;TZID=America/Chicago:20270421T183000
DTEND;TZID=America/Chicago:20270421T193000
DTSTAMP:20260425T155344
CREATED:20260421T163557Z
LAST-MODIFIED:20260425T164048Z
UID:34924-1808332200-1808335800@www.crossroads55112.org
SUMMARY:ALC Choir Rehearsal
DESCRIPTION:
URL:https://www.crossroads55112.org/eventsingle/alc-choir-rehearsal-73/
END:VEVENT
BEGIN:VEVENT
DTSTART;TZID=America/Chicago:20270422T130000
DTEND;TZID=America/Chicago:20270422T140000
DTSTAMP:20260425T155344
CREATED:20260422T164011Z
LAST-MODIFIED:20260425T164048Z
UID:34931-1808398800-1808402400@www.crossroads55112.org
SUMMARY:A-Game Day
DESCRIPTION:
URL:https://www.crossroads55112.org/eventsingle/a-game-day-179/
END:VEVENT
BEGIN:VEVENT
DTSTART;TZID=America/Chicago:20270422T150000
DTEND;TZID=America/Chicago:20270422T210000
DTSTAMP:20260425T155344
CREATED:20260422T164011Z
LAST-MODIFIED:20260425T164048Z
UID:34932-1808406000-1808427600@www.crossroads55112.org
SUMMARY:C-Marnie Thies Violin Lessons
DESCRIPTION:
URL:https://www.crossroads55112.org/eventsingle/c-marnie-thies-violin-lessons-83/
END:VEVENT
BEGIN:VEVENT
DTSTART;TZID=America/Chicago:20270423T170000
DTEND;TZID=America/Chicago:20270423T190000
DTSTAMP:20260425T155344
CREATED:20260423T163404Z
LAST-MODIFIED:20260425T164048Z
UID:34940-1808499600-1808506800@www.crossroads55112.org
SUMMARY:C-New Birth Church
DESCRIPTION:
URL:https://www.crossroads55112.org/eventsingle/c-new-birth-church-369/
END:VEVENT
BEGIN:VEVENT
DTSTART;TZID=America/Chicago:20270424T090000
DTEND;TZID=America/Chicago:20270424T150000
DTSTAMP:20260425T155344
CREATED:20260424T163711Z
LAST-MODIFIED:20260425T164048Z
UID:34943-1808557200-1808578800@www.crossroads55112.org
SUMMARY:C-New Birth Church
DESCRIPTION:
URL:https://www.crossroads55112.org/eventsingle/c-new-birth-church-371/
END:VEVENT
BEGIN:VEVENT
DTSTART;TZID=America/Chicago:20270424T090000
DTEND;TZID=America/Chicago:20270424T150000
DTSTAMP:20260425T155344
CREATED:20260424T163712Z
LAST-MODIFIED:20260425T164048Z
UID:34944-1808557200-1808578800@www.crossroads55112.org
SUMMARY:A-Mount of Blessing Church
DESCRIPTION:
URL:https://www.crossroads55112.org/eventsingle/a-mount-of-blessing-church-204/
END:VEVENT
BEGIN:VEVENT
DTSTART;TZID=America/Chicago:20270425T083000
DTEND;TZID=America/Chicago:20270425T093000
DTSTAMP:20260425T155344
CREATED:20260425T164048Z
LAST-MODIFIED:20260425T164048Z
UID:34973-1808641800-1808645400@www.crossroads55112.org
SUMMARY:C-Worship
DESCRIPTION:
URL:https://www.crossroads55112.org/eventsingle/c-worship-61/
END:VEVENT
BEGIN:VEVENT
DTSTART;TZID=America/Chicago:20270425T093000
DTEND;TZID=America/Chicago:20270425T103000
DTSTAMP:20260425T155344
CREATED:20260425T164049Z
LAST-MODIFIED:20260425T164049Z
UID:34974-1808645400-1808649000@www.crossroads55112.org
SUMMARY:C-Sunday School/Youth
DESCRIPTION:
URL:https://www.crossroads55112.org/eventsingle/c-sunday-school-youth-108/
END:VEVENT
BEGIN:VEVENT
DTSTART;TZID=America/Chicago:20270425T100000
DTEND;TZID=America/Chicago:20270425T110000
DTSTAMP:20260425T155344
CREATED:20260425T164049Z
LAST-MODIFIED:20260425T164049Z
UID:34975-1808647200-1808650800@www.crossroads55112.org
SUMMARY:A-Faith Comm Church
DESCRIPTION:Lower level
URL:https://www.crossroads55112.org/eventsingle/a-faith-comm-church-183/
END:VEVENT
BEGIN:VEVENT
DTSTART;TZID=America/Chicago:20270425T104500
DTEND;TZID=America/Chicago:20270425T114500
DTSTAMP:20260425T155344
CREATED:20260425T164049Z
LAST-MODIFIED:20260425T164049Z
UID:34976-1808649900-1808653500@www.crossroads55112.org
SUMMARY:A-Worship
DESCRIPTION:
URL:https://www.crossroads55112.org/eventsingle/a-worship-70/
END:VEVENT
BEGIN:VEVENT
DTSTART;TZID=America/Chicago:20270425T120000
DTEND;TZID=America/Chicago:20270425T150000
DTSTAMP:20260425T155344
CREATED:20260425T164049Z
LAST-MODIFIED:20260425T164049Z
UID:34977-1808654400-1808665200@www.crossroads55112.org
SUMMARY:A-Cristo Rey
DESCRIPTION:
URL:https://www.crossroads55112.org/eventsingle/a-cristo-rey-97/
END:VEVENT
BEGIN:VEVENT
DTSTART;TZID=America/Chicago:20270425T150000
DTEND;TZID=America/Chicago:20270425T180000
DTSTAMP:20260425T155344
CREATED:20260425T164050Z
LAST-MODIFIED:20260425T164050Z
UID:34978-1808665200-1808676000@www.crossroads55112.org
SUMMARY:A-FCC
DESCRIPTION:
URL:https://www.crossroads55112.org/eventsingle/a-fcc-16/
END:VEVENT
END:VCALENDAR