BEGIN:VCALENDAR
VERSION:2.0
PRODID:-//Crossroads Parish - ECPv6.15.18//NONSGML v1.0//EN
CALSCALE:GREGORIAN
METHOD:PUBLISH
X-WR-CALNAME:Crossroads Parish
X-ORIGINAL-URL:https://www.crossroads55112.org
X-WR-CALDESC:Events for Crossroads Parish
REFRESH-INTERVAL;VALUE=DURATION:PT1H
X-Robots-Tag:noindex
X-PUBLISHED-TTL:PT1H
BEGIN:VTIMEZONE
TZID:America/Chicago
BEGIN:DAYLIGHT
TZOFFSETFROM:-0600
TZOFFSETTO:-0500
TZNAME:CDT
DTSTART:20260308T080000
END:DAYLIGHT
BEGIN:STANDARD
TZOFFSETFROM:-0500
TZOFFSETTO:-0600
TZNAME:CST
DTSTART:20261101T070000
END:STANDARD
BEGIN:DAYLIGHT
TZOFFSETFROM:-0600
TZOFFSETTO:-0500
TZNAME:CDT
DTSTART:20270314T080000
END:DAYLIGHT
BEGIN:STANDARD
TZOFFSETFROM:-0500
TZOFFSETTO:-0600
TZNAME:CST
DTSTART:20271107T070000
END:STANDARD
BEGIN:DAYLIGHT
TZOFFSETFROM:-0600
TZOFFSETTO:-0500
TZNAME:CDT
DTSTART:20280312T080000
END:DAYLIGHT
BEGIN:STANDARD
TZOFFSETFROM:-0500
TZOFFSETTO:-0600
TZNAME:CST
DTSTART:20281105T070000
END:STANDARD
END:VTIMEZONE
BEGIN:VEVENT
DTSTART;TZID=America/Chicago:20270419T130000
DTEND;TZID=America/Chicago:20270419T140000
DTSTAMP:20260420T162125
CREATED:20260419T130748Z
LAST-MODIFIED:20260420T163407Z
UID:34903-1808139600-1808143200@www.crossroads55112.org
SUMMARY:A-Kitchen Kutups
DESCRIPTION:
URL:https://www.crossroads55112.org/eventsingle/a-kitchen-kutups-108/
END:VEVENT
BEGIN:VEVENT
DTSTART;TZID=America/Chicago:20270419T140000
DTEND;TZID=America/Chicago:20270419T160000
DTSTAMP:20260420T162125
CREATED:20260419T130748Z
LAST-MODIFIED:20260420T163407Z
UID:34904-1808143200-1808150400@www.crossroads55112.org
SUMMARY:A-Puzzles
DESCRIPTION:
URL:https://www.crossroads55112.org/eventsingle/a-puzzles-75/
END:VEVENT
BEGIN:VEVENT
DTSTART;TZID=America/Chicago:20270419T180000
DTEND;TZID=America/Chicago:20270419T190000
DTSTAMP:20260420T162125
CREATED:20260419T130748Z
LAST-MODIFIED:20260420T163407Z
UID:34905-1808157600-1808161200@www.crossroads55112.org
SUMMARY:A-Girl Souts
DESCRIPTION:
URL:https://www.crossroads55112.org/eventsingle/a-girl-souts-38/
END:VEVENT
BEGIN:VEVENT
DTSTART;TZID=America/Chicago:20270420T180000
DTEND;TZID=America/Chicago:20270420T183000
DTSTAMP:20260420T162125
CREATED:20260420T163407Z
LAST-MODIFIED:20260420T163407Z
UID:34917-1808244000-1808245800@www.crossroads55112.org
SUMMARY:A-Zumba
DESCRIPTION:
URL:https://www.crossroads55112.org/eventsingle/a-zumba-71/
END:VEVENT
BEGIN:VEVENT
DTSTART;TZID=America/Chicago:20270420T180000
DTEND;TZID=America/Chicago:20270420T193000
DTSTAMP:20260420T162125
CREATED:20260420T163407Z
LAST-MODIFIED:20260420T163407Z
UID:34918-1808244000-1808249400@www.crossroads55112.org
SUMMARY:C-Girl Scouts
DESCRIPTION:Bryan Bloomquist   bmbloomquist@gmail.com
URL:https://www.crossroads55112.org/eventsingle/c-girl-scouts-75/
END:VEVENT
BEGIN:VEVENT
DTSTART;TZID=America/Chicago:20270420T183000
DTEND;TZID=America/Chicago:20270420T200000
DTSTAMP:20260420T162125
CREATED:20260420T163407Z
LAST-MODIFIED:20260420T163407Z
UID:34919-1808245800-1808251200@www.crossroads55112.org
SUMMARY:C-Boy Scouts
DESCRIPTION:
URL:https://www.crossroads55112.org/eventsingle/c-boy-scouts-57/
END:VEVENT
END:VCALENDAR