BEGIN:VCALENDAR
VERSION:2.0
PRODID:-//Crossroads Parish - ECPv6.15.18//NONSGML v1.0//EN
CALSCALE:GREGORIAN
METHOD:PUBLISH
X-WR-CALNAME:Crossroads Parish
X-ORIGINAL-URL:https://www.crossroads55112.org
X-WR-CALDESC:Events for Crossroads Parish
REFRESH-INTERVAL;VALUE=DURATION:PT1H
X-Robots-Tag:noindex
X-PUBLISHED-TTL:PT1H
BEGIN:VTIMEZONE
TZID:America/Chicago
BEGIN:DAYLIGHT
TZOFFSETFROM:-0600
TZOFFSETTO:-0500
TZNAME:CDT
DTSTART:20200308T080000
END:DAYLIGHT
BEGIN:STANDARD
TZOFFSETFROM:-0500
TZOFFSETTO:-0600
TZNAME:CST
DTSTART:20201101T070000
END:STANDARD
BEGIN:DAYLIGHT
TZOFFSETFROM:-0600
TZOFFSETTO:-0500
TZNAME:CDT
DTSTART:20210314T080000
END:DAYLIGHT
BEGIN:STANDARD
TZOFFSETFROM:-0500
TZOFFSETTO:-0600
TZNAME:CST
DTSTART:20211107T070000
END:STANDARD
BEGIN:DAYLIGHT
TZOFFSETFROM:-0600
TZOFFSETTO:-0500
TZNAME:CDT
DTSTART:20220313T080000
END:DAYLIGHT
BEGIN:STANDARD
TZOFFSETFROM:-0500
TZOFFSETTO:-0600
TZNAME:CST
DTSTART:20221106T070000
END:STANDARD
END:VTIMEZONE
BEGIN:VEVENT
DTSTART;TZID=America/Chicago:20210704T093000
DTEND;TZID=America/Chicago:20210704T101500
DTSTAMP:20260425T183611
CREATED:20210702T152807Z
LAST-MODIFIED:20210702T152807Z
UID:2455-1625391000-1625393700@www.crossroads55112.org
SUMMARY:Outdoor Worship @ Atonement
DESCRIPTION:Jesus does great deeds of power and gives his disciples authority over demons. Yet none of this power is unilateral; it all must be received by faith. Jesus asks his disciples to go out without money or supplies\, so that they will be dependent on how others receive them. When we are sent from the assembly to witness and to heal\, we are asked to be vulnerable\, to be dependent on the reception of others. The Spirit always operates in the “between”: between Jesus and his Abba\, between Jesus and us\, between you and me\, between us and those to whom we are sent. \nOur service will be live streamed from Atonement Lutheran Church starting at 9:30am. Click on the image above to view our live stream. \nThe bulletin for this service can be found here:https://drive.google.com/file/d/1bUggyo0mxsBR9jTtgIDgiWSRgvAQ6XVu/view?usp=sharing
URL:https://www.crossroads55112.org/eventsingle/2021-07-04_worship/
CATEGORIES:Worship
END:VEVENT
BEGIN:VEVENT
DTSTART;TZID=America/Chicago:20210711T083000
DTEND;TZID=America/Chicago:20210711T091500
DTSTAMP:20260425T183611
CREATED:20210702T152807Z
LAST-MODIFIED:20210702T152807Z
UID:2456-1625992200-1625994900@www.crossroads55112.org
SUMMARY:Sunday Worship @ Cross of Glory
DESCRIPTION:When Amos reports his vision of God judging Israel for its mistreatment of the poor\, he becomes a threat to the power of the priests and the king. John the Baptist also speaks truth to power\, and Herod has him killed. In Herod’s fear that Jesus is John returned from the dead\, we may hear hope for the oppressed: all the prophets killed through the ages are alive in Jesus. We are called to witness to justice in company with them\, and to proclaim God’s saving love. \nOur service will be live streamed from Cross of Glory Lutheran Church starting at 8:30am.Click on the image above to view our live stream. \nThe bulletin for this service can be found here: https://drive.google.com/file/d/1tP6XdvjkB9eja98GysukY4E9Xe6ClzZa/view?usp=sharing
URL:https://www.crossroads55112.org/eventsingle/2021-07-11_cog/
CATEGORIES:Worship
END:VEVENT
BEGIN:VEVENT
DTSTART;TZID=America/Chicago:20210711T103000
DTEND;TZID=America/Chicago:20210711T111500
DTSTAMP:20260425T183611
CREATED:20210702T152807Z
LAST-MODIFIED:20210702T152807Z
UID:2457-1625999400-1626002100@www.crossroads55112.org
SUMMARY:Sunday Worship @ Atonement
DESCRIPTION:When Amos reports his vision of God judging Israel for its mistreatment of the poor\, he becomes a threat to the power of the priests and the king. John the Baptist also speaks truth to power\, and Herod has him killed. In Herod’s fear that Jesus is John returned from the dead\, we may hear hope for the oppressed: all the prophets killed through the ages are alive in Jesus. We are called to witness to justice in company with them\, and to proclaim God’s saving love. \nOur service will be live streamed from Cross of Glory Lutheran Church starting at 8:30am. Click on the image above to view our live stream. \nThe bulletin for this service can be found here: https://drive.google.com/file/d/1tP6XdvjkB9eja98GysukY4E9Xe6ClzZa/view?usp=sharing
URL:https://www.crossroads55112.org/eventsingle/2021-07-11_alc/
CATEGORIES:Worship
END:VEVENT
BEGIN:VEVENT
DTSTART;TZID=America/Chicago:20210718T083000
DTEND;TZID=America/Chicago:20210718T091500
DTSTAMP:20260425T183611
CREATED:20210702T152807Z
LAST-MODIFIED:20210702T152807Z
UID:2458-1626597000-1626599700@www.crossroads55112.org
SUMMARY:Sunday Worship @ Cross of Glory
DESCRIPTION:Mark’s gospel makes clear how great is the press of the crowd\, with its countless needs to be met\, on Jesus and his disciples. Yet in today’s gospel Jesus advises his disciples to get away and rest\, to take care of themselves. Sometimes we think that when others are in great need we shouldn’t think of ourselves at all; but Jesus also honors the caregivers’ need. We are sent from Christ’s table to care for others and for ourselves. \nOur service will be live streamed from Atonement Lutheran Church starting at 10:30am. Click on the image above to view our live stream \nThe bulletin for this service can be found here: https://drive.google.com/file/d/15BW9UAgmPW2Cp_poyPHUCKZSAfhIL3f0/view?usp=sharing
URL:https://www.crossroads55112.org/eventsingle/2021-07-18_cog/
CATEGORIES:Worship
END:VEVENT
BEGIN:VEVENT
DTSTART;TZID=America/Chicago:20210718T103000
DTEND;TZID=America/Chicago:20210718T111500
DTSTAMP:20260425T183611
CREATED:20210702T152808Z
LAST-MODIFIED:20210702T152808Z
UID:2459-1626604200-1626606900@www.crossroads55112.org
SUMMARY:Sunday Worship @ Atonement
DESCRIPTION:Mark’s gospel makes clear how great is the press of the crowd\, with its countless needs to be met\, on Jesus and his disciples. Yet in today’s gospel Jesus advises his disciples to get away and rest\, to take care of themselves. Sometimes we think that when others are in great need we shouldn’t think of ourselves at all; but Jesus also honors the caregivers’ need. We are sent from Christ’s table to care for others and for ourselves. \nOur service will be live streamed from Atonement Lutheran Church starting at 10:30am. Click on the image above to view our live stream \nThe bulletin for this service can be found here: https://drive.google.com/file/d/15BW9UAgmPW2Cp_poyPHUCKZSAfhIL3f0/view?usp=sharing
URL:https://www.crossroads55112.org/eventsingle/2021-07-18_alc/
CATEGORIES:Worship
END:VEVENT
BEGIN:VEVENT
DTSTART;TZID=America/Chicago:20210725T083000
DTEND;TZID=America/Chicago:20210725T091500
DTSTAMP:20260425T183611
CREATED:20210702T152810Z
LAST-MODIFIED:20210702T152810Z
UID:2460-1627201800-1627204500@www.crossroads55112.org
SUMMARY:Sunday Worship @ Cross of Glory
DESCRIPTION:Today is the first of five Sundays with gospel readings from John 6\, the first four of which focus on Jesus as bread of life. Today Jesus feeds thousands of people with five loaves and two fish. What we have\, what we bring to Jesus’ table\, seems like it is not nearly enough to meet all the needs we see around us. But it is not the adequacy of our supplies or our skills that finally makes the difference: it is the power of Jesus working in the littlest and least to transform this world into the world God desires\, a world where all the hungry are satisfied. \nOur service will be live streamed from Cross of Glory Lutheran Church starting at 8:30am. Click on the image above to view our live stream. \nThe bulletin for this service can be found here: https://drive.google.com/file/d/1-ntoqypePlaQ_RIQra6Nf-EjqBBXibXy/view?usp=sharing
URL:https://www.crossroads55112.org/eventsingle/2021-07-25_cog/
CATEGORIES:Worship
END:VEVENT
BEGIN:VEVENT
DTSTART;TZID=America/Chicago:20210725T103000
DTEND;TZID=America/Chicago:20210725T111500
DTSTAMP:20260425T183611
CREATED:20210702T152810Z
LAST-MODIFIED:20210702T152810Z
UID:2461-1627209000-1627211700@www.crossroads55112.org
SUMMARY:Sunday Worship @ Atonement
DESCRIPTION:Today is the first of five Sundays with gospel readings from John 6\, the first four of which focus on Jesus as bread of life. Today Jesus feeds thousands of people with five loaves and two fish. What we have\, what we bring to Jesus’ table\, seems like it is not nearly enough to meet all the needs we see around us. But it is not the adequacy of our supplies or our skills that finally makes the difference: it is the power of Jesus working in the littlest and least to transform this world into the world God desires\, a world where all the hungry are satisfied. \nOur service will be live streamed from Cross of Glory Lutheran Church starting at 8:30am. Click on the image above to view our live stream. \nThe bulletin for this service can be found here: https://drive.google.com/file/d/1-ntoqypePlaQ_RIQra6Nf-EjqBBXibXy/view?usp=sharing
URL:https://www.crossroads55112.org/eventsingle/2021-07-25_alc/
CATEGORIES:Worship
END:VEVENT
END:VCALENDAR